BEGIN:VCALENDAR
VERSION:2.0
PRODID:-//NYASA INTERNATIONAL ACADEMY - ECPv6.15.20//NONSGML v1.0//EN
CALSCALE:GREGORIAN
METHOD:PUBLISH
X-ORIGINAL-URL:https://nyasainternational.academy
X-WR-CALDESC:Events for NYASA INTERNATIONAL ACADEMY
REFRESH-INTERVAL;VALUE=DURATION:PT1H
X-Robots-Tag:noindex
X-PUBLISHED-TTL:PT1H
BEGIN:VTIMEZONE
TZID:UTC
BEGIN:STANDARD
TZOFFSETFROM:+0000
TZOFFSETTO:+0000
TZNAME:UTC
DTSTART:20250101T000000
END:STANDARD
END:VTIMEZONE
BEGIN:VEVENT
DTSTART;TZID=UTC:20260205T080000
DTEND;TZID=UTC:20260205T123000
DTSTAMP:20260424T182426
CREATED:20260130T070158Z
LAST-MODIFIED:20260130T070158Z
UID:7108-1770278400-1770294600@nyasainternational.academy
SUMMARY:World read aloud day (NJA & NISA)
DESCRIPTION:
URL:https://nyasainternational.academy/event/world-read-aloud-day-nja-nisa/
END:VEVENT
BEGIN:VEVENT
DTSTART;VALUE=DATE:20260216
DTEND;VALUE=DATE:20260221
DTSTAMP:20260424T182426
CREATED:20250601T152214Z
LAST-MODIFIED:20250601T152214Z
UID:6996-1771200000-1771631999@nyasainternational.academy
SUMMARY:Half Term Break
DESCRIPTION:
URL:https://nyasainternational.academy/event/half-term-break-7/
END:VEVENT
END:VCALENDAR