BEGIN:VCALENDAR
VERSION:2.0
PRODID:-//NYASA INTERNATIONAL ACADEMY - ECPv6.15.20//NONSGML v1.0//EN
CALSCALE:GREGORIAN
METHOD:PUBLISH
X-WR-CALNAME:NYASA INTERNATIONAL ACADEMY
X-ORIGINAL-URL:https://nyasainternational.academy
X-WR-CALDESC:Events for NYASA INTERNATIONAL ACADEMY
REFRESH-INTERVAL;VALUE=DURATION:PT1H
X-Robots-Tag:noindex
X-PUBLISHED-TTL:PT1H
BEGIN:VTIMEZONE
TZID:UTC
BEGIN:STANDARD
TZOFFSETFROM:+0000
TZOFFSETTO:+0000
TZNAME:UTC
DTSTART:20200101T000000
END:STANDARD
END:VTIMEZONE
BEGIN:VEVENT
DTSTART;TZID=UTC:20220216T070000
DTEND;TZID=UTC:20220216T073000
DTSTAMP:20260425T151640
CREATED:20220124T123221Z
LAST-MODIFIED:20220124T123221Z
UID:2697-1644994800-1644996600@nyasainternational.academy
SUMMARY:YR3 Assembly
DESCRIPTION:YR3 Assembly
URL:https://nyasainternational.academy/event/yr3-assembly/
END:VEVENT
BEGIN:VEVENT
DTSTART;VALUE=DATE:20220216
DTEND;VALUE=DATE:20220217
DTSTAMP:20260425T151640
CREATED:20220124T123454Z
LAST-MODIFIED:20220126T073311Z
UID:2699-1644969600-1645055999@nyasainternational.academy
SUMMARY:Swimming Gala Rec - YR6
DESCRIPTION:Swimming Gala
URL:https://nyasainternational.academy/event/swimming-gala/
END:VEVENT
BEGIN:VEVENT
DTSTART;TZID=UTC:20220215T140000
DTEND;TZID=UTC:20220215T153000
DTSTAMP:20260425T151640
CREATED:20220124T122449Z
LAST-MODIFIED:20220124T123007Z
UID:2695-1644933600-1644939000@nyasainternational.academy
SUMMARY:Staff Workshop - Music in the Class
DESCRIPTION:
URL:https://nyasainternational.academy/event/staff-workshop-music-in-the-class/
END:VEVENT
BEGIN:VEVENT
DTSTART;TZID=UTC:20220209T071000
DTEND;TZID=UTC:20220209T073000
DTSTAMP:20260425T151640
CREATED:20220124T122144Z
LAST-MODIFIED:20220124T122144Z
UID:2693-1644390600-1644391800@nyasainternational.academy
SUMMARY:YR2 ASSEMBLY
DESCRIPTION:YR2 ASSEMBLY
URL:https://nyasainternational.academy/event/yr2-assembly/
END:VEVENT
BEGIN:VEVENT
DTSTART;VALUE=DATE:20220208
DTEND;VALUE=DATE:20220209
DTSTAMP:20260425T151640
CREATED:20220124T121918Z
LAST-MODIFIED:20220124T121918Z
UID:2690-1644278400-1644364799@nyasainternational.academy
SUMMARY:Y5 Excursion
DESCRIPTION:Y5 Excursion
URL:https://nyasainternational.academy/event/y5-excursion/
END:VEVENT
BEGIN:VEVENT
DTSTART;VALUE=DATE:20220204
DTEND;VALUE=DATE:20220205
DTSTAMP:20260425T151640
CREATED:20220124T121754Z
LAST-MODIFIED:20220124T121754Z
UID:2688-1643932800-1644019199@nyasainternational.academy
SUMMARY:British Council competition deadline
DESCRIPTION:British Council competition deadline
URL:https://nyasainternational.academy/event/british-council-competition-deadline/
END:VEVENT
BEGIN:VEVENT
DTSTART;VALUE=DATE:20220202
DTEND;VALUE=DATE:20220203
DTSTAMP:20260425T151640
CREATED:20220124T121654Z
LAST-MODIFIED:20220124T121654Z
UID:2686-1643760000-1643846399@nyasainternational.academy
SUMMARY:World Read Aloud Day
DESCRIPTION:World Read Aloud Day
URL:https://nyasainternational.academy/event/world-read-aloud-day/
END:VEVENT
BEGIN:VEVENT
DTSTART;VALUE=DATE:20220201
DTEND;VALUE=DATE:20220202
DTSTAMP:20260425T151640
CREATED:20220124T121601Z
LAST-MODIFIED:20220124T121601Z
UID:2684-1643673600-1643759999@nyasainternational.academy
SUMMARY:Y4 Excursion
DESCRIPTION:Y4 Excursion
URL:https://nyasainternational.academy/event/y4-excursion/
END:VEVENT
BEGIN:VEVENT
DTSTART;VALUE=DATE:20220131
DTEND;VALUE=DATE:20220205
DTSTAMP:20260425T151640
CREATED:20220124T121330Z
LAST-MODIFIED:20220124T121330Z
UID:2682-1643587200-1644019199@nyasainternational.academy
SUMMARY:Book Week
DESCRIPTION:Book Week
URL:https://nyasainternational.academy/event/book-week-3/
END:VEVENT
BEGIN:VEVENT
DTSTART;TZID=UTC:20220126T071000
DTEND;TZID=UTC:20220126T073000
DTSTAMP:20260425T151640
CREATED:20220124T121148Z
LAST-MODIFIED:20220124T121148Z
UID:2680-1643181000-1643182200@nyasainternational.academy
SUMMARY:YR1 Assembly
DESCRIPTION:YR1 Assembly
URL:https://nyasainternational.academy/event/yr1-assembly/
END:VEVENT
BEGIN:VEVENT
DTSTART;VALUE=DATE:20220125
DTEND;VALUE=DATE:20220126
DTSTAMP:20260425T151640
CREATED:20220124T121033Z
LAST-MODIFIED:20220124T121033Z
UID:2678-1643068800-1643155199@nyasainternational.academy
SUMMARY:Y3 Excursion
DESCRIPTION:Y3 Excursion
URL:https://nyasainternational.academy/event/y3-excursion/
END:VEVENT
BEGIN:VEVENT
DTSTART;VALUE=DATE:20220124
DTEND;VALUE=DATE:20220125
DTSTAMP:20260425T151640
CREATED:20220124T120611Z
LAST-MODIFIED:20220124T120611Z
UID:2676-1642982400-1643068799@nyasainternational.academy
SUMMARY:Clubs Start
DESCRIPTION:Clubs Start
URL:https://nyasainternational.academy/event/clubs-start-3/
END:VEVENT
BEGIN:VEVENT
DTSTART;VALUE=DATE:20220117
DTEND;VALUE=DATE:20220118
DTSTAMP:20260425T151640
CREATED:20211004T105930Z
LAST-MODIFIED:20211004T105930Z
UID:2095-1642377600-1642463999@nyasainternational.academy
SUMMARY:John Chilembwe Day (Public Holiday)
DESCRIPTION:
URL:https://nyasainternational.academy/event/john-chilembwe-day-public-holiday/
END:VEVENT
BEGIN:VEVENT
DTSTART;VALUE=DATE:20220112
DTEND;VALUE=DATE:20220113
DTSTAMP:20260425T151640
CREATED:20220106T110319Z
LAST-MODIFIED:20220106T110319Z
UID:2673-1641945600-1642031999@nyasainternational.academy
SUMMARY:Tree planting Assembly
DESCRIPTION:Tree planting Assembly
URL:https://nyasainternational.academy/event/tree-planting-assembly/
END:VEVENT
BEGIN:VEVENT
DTSTART;VALUE=DATE:20220111
DTEND;VALUE=DATE:20220112
DTSTAMP:20260425T151640
CREATED:20211004T105530Z
LAST-MODIFIED:20211004T105550Z
UID:2093-1641859200-1641945599@nyasainternational.academy
SUMMARY:Start of second term
DESCRIPTION:
URL:https://nyasainternational.academy/event/start-of-second-term/
END:VEVENT
BEGIN:VEVENT
DTSTART;TZID=UTC:20211209T070000
DTEND;TZID=UTC:20211209T120000
DTSTAMP:20260425T151640
CREATED:20210906T120403Z
LAST-MODIFIED:20210906T120516Z
UID:2065-1639033200-1639051200@nyasainternational.academy
SUMMARY:Last day of term
DESCRIPTION:Last day of term- Interhouse football
URL:https://nyasainternational.academy/event/last-day-of-term-2/
END:VEVENT
BEGIN:VEVENT
DTSTART;VALUE=DATE:20211209
DTEND;VALUE=DATE:20211210
DTSTAMP:20260425T151640
CREATED:20211201T091358Z
LAST-MODIFIED:20211201T091358Z
UID:2656-1639008000-1639094399@nyasainternational.academy
SUMMARY:Inter-house Football
DESCRIPTION:
URL:https://nyasainternational.academy/event/inter-house-football/
END:VEVENT
BEGIN:VEVENT
DTSTART;VALUE=DATE:20211206
DTEND;VALUE=DATE:20211207
DTSTAMP:20260425T151640
CREATED:20211201T091109Z
LAST-MODIFIED:20211201T091117Z
UID:2654-1638748800-1638835199@nyasainternational.academy
SUMMARY:Inter-house Hockey
DESCRIPTION:
URL:https://nyasainternational.academy/event/inter-house-hockey/
END:VEVENT
BEGIN:VEVENT
DTSTART;TZID=UTC:20211203T063000
DTEND;TZID=UTC:20211203T130000
DTSTAMP:20260425T151640
CREATED:20210906T120231Z
LAST-MODIFIED:20210906T120231Z
UID:2062-1638513000-1638536400@nyasainternational.academy
SUMMARY:Mufti Day
DESCRIPTION:Mufti Day
URL:https://nyasainternational.academy/event/mufti-day/
END:VEVENT
BEGIN:VEVENT
DTSTART;TZID=UTC:20211201T070000
DTEND;TZID=UTC:20211201T073000
DTSTAMP:20260425T151640
CREATED:20210906T120009Z
LAST-MODIFIED:20210906T120009Z
UID:2060-1638342000-1638343800@nyasainternational.academy
SUMMARY:Clubs' Assembly
DESCRIPTION:Clubs’ Assembly
URL:https://nyasainternational.academy/event/clubs-assembly/
END:VEVENT
BEGIN:VEVENT
DTSTART;TZID=UTC:20211130T123000
DTEND;TZID=UTC:20211202T153000
DTSTAMP:20260425T151640
CREATED:20210906T115847Z
LAST-MODIFIED:20210906T115847Z
UID:2057-1638275400-1638459000@nyasainternational.academy
SUMMARY:Parent Teacher Meeting
DESCRIPTION:Parent Teacher Meeting
URL:https://nyasainternational.academy/event/parent-teacher-meeting/
END:VEVENT
BEGIN:VEVENT
DTSTART;VALUE=DATE:20211130
DTEND;VALUE=DATE:20211203
DTSTAMP:20260425T151640
CREATED:20211201T092219Z
LAST-MODIFIED:20211201T094323Z
UID:2659-1638230400-1638489599@nyasainternational.academy
SUMMARY:Early Act Sales
DESCRIPTION:Art work\, seedlings & school shoes proceeds will be donated to children at QE
URL:https://nyasainternational.academy/event/early-act-sales/
END:VEVENT
BEGIN:VEVENT
DTSTART;TZID=UTC:20211129T070000
DTEND;TZID=UTC:20211129T123000
DTSTAMP:20260425T151640
CREATED:20210906T115436Z
LAST-MODIFIED:20210906T115436Z
UID:2054-1638169200-1638189000@nyasainternational.academy
SUMMARY:Interhouse Hockey
DESCRIPTION:Interhouse Hockey
URL:https://nyasainternational.academy/event/interhouse-hockey/
END:VEVENT
BEGIN:VEVENT
DTSTART;TZID=UTC:20211124T070000
DTEND;TZID=UTC:20211124T193000
DTSTAMP:20260425T151640
CREATED:20210906T114926Z
LAST-MODIFIED:20210906T114926Z
UID:2052-1637737200-1637782200@nyasainternational.academy
SUMMARY:Guest Speaker
DESCRIPTION:Guest Speaker
URL:https://nyasainternational.academy/event/guest-speaker/
END:VEVENT
BEGIN:VEVENT
DTSTART;TZID=UTC:20211117T070000
DTEND;TZID=UTC:20211117T073000
DTSTAMP:20260425T151640
CREATED:20210906T114537Z
LAST-MODIFIED:20210906T114537Z
UID:2050-1637132400-1637134200@nyasainternational.academy
SUMMARY:French Assembly
DESCRIPTION:French Assembly
URL:https://nyasainternational.academy/event/french-assembly/
END:VEVENT
BEGIN:VEVENT
DTSTART;TZID=UTC:20211110T070000
DTEND;TZID=UTC:20211110T193000
DTSTAMP:20260425T151640
CREATED:20210906T114212Z
LAST-MODIFIED:20210906T114212Z
UID:2047-1636527600-1636572600@nyasainternational.academy
SUMMARY:Year 3 Assembly
DESCRIPTION:Year 3 Assembly
URL:https://nyasainternational.academy/event/year-3-assembly/
END:VEVENT
BEGIN:VEVENT
DTSTART;TZID=UTC:20211103T070000
DTEND;TZID=UTC:20211103T073000
DTSTAMP:20260425T151640
CREATED:20210906T111001Z
LAST-MODIFIED:20210906T111001Z
UID:2045-1635922800-1635924600@nyasainternational.academy
SUMMARY:Year 4 Assembly
DESCRIPTION:Year 4 Assembly
URL:https://nyasainternational.academy/event/year-4-assembly/
END:VEVENT
BEGIN:VEVENT
DTSTART;TZID=UTC:20211027T070000
DTEND;TZID=UTC:20211027T073000
DTSTAMP:20260425T151640
CREATED:20210906T110812Z
LAST-MODIFIED:20210906T110812Z
UID:2043-1635318000-1635319800@nyasainternational.academy
SUMMARY:Year 5 Aseembly
DESCRIPTION:Year 5 Aseembly
URL:https://nyasainternational.academy/event/year-5-aseembly/
END:VEVENT
BEGIN:VEVENT
DTSTART;TZID=UTC:20211020T070000
DTEND;TZID=UTC:20211020T073000
DTSTAMP:20260425T151640
CREATED:20210906T110406Z
LAST-MODIFIED:20210906T110406Z
UID:2041-1634713200-1634715000@nyasainternational.academy
SUMMARY:Year 6 Assembly
DESCRIPTION:Year 6 Assembly
URL:https://nyasainternational.academy/event/year-6-assembly-3/
END:VEVENT
BEGIN:VEVENT
DTSTART;VALUE=DATE:20211015
DTEND;VALUE=DATE:20211016
DTSTAMP:20260425T151640
CREATED:20211015T091101Z
LAST-MODIFIED:20211015T091243Z
UID:2133-1634256000-1634342399@nyasainternational.academy
SUMMARY:MOTHER'S DAY
DESCRIPTION:MOTHERS DAY
URL:https://nyasainternational.academy/event/mothers-day/
ATTACH;FMTTYPE=image/jpeg:https://nyasainternational.academy/wp-content/uploads/2021/10/MOTHERS-DAY.jpg
END:VEVENT
END:VCALENDAR