BEGIN:VCALENDAR
VERSION:2.0
PRODID:-//NYASA INTERNATIONAL ACADEMY - ECPv6.15.20//NONSGML v1.0//EN
CALSCALE:GREGORIAN
METHOD:PUBLISH
X-WR-CALNAME:NYASA INTERNATIONAL ACADEMY
X-ORIGINAL-URL:https://nyasainternational.academy
X-WR-CALDESC:Events for NYASA INTERNATIONAL ACADEMY
REFRESH-INTERVAL;VALUE=DURATION:PT1H
X-Robots-Tag:noindex
X-PUBLISHED-TTL:PT1H
BEGIN:VTIMEZONE
TZID:UTC
BEGIN:STANDARD
TZOFFSETFROM:+0000
TZOFFSETTO:+0000
TZNAME:UTC
DTSTART:20210101T000000
END:STANDARD
END:VTIMEZONE
BEGIN:VTIMEZONE
TZID:Africa/Abidjan
BEGIN:STANDARD
TZOFFSETFROM:+0000
TZOFFSETTO:+0000
TZNAME:GMT
DTSTART:20210101T000000
END:STANDARD
END:VTIMEZONE
BEGIN:VEVENT
DTSTART;VALUE=DATE:20220520
DTEND;VALUE=DATE:20220521
DTSTAMP:20260425T113806
CREATED:20220426T082811Z
LAST-MODIFIED:20220426T082811Z
UID:2846-1653004800-1653091199@nyasainternational.academy
SUMMARY:First round speech contest
DESCRIPTION:
URL:https://nyasainternational.academy/event/first-round-speech-contest/
END:VEVENT
BEGIN:VEVENT
DTSTART;TZID=UTC:20220518T160000
DTEND;TZID=UTC:20220518T183000
DTSTAMP:20260425T113806
CREATED:20220426T082422Z
LAST-MODIFIED:20220426T082422Z
UID:2842-1652889600-1652898600@nyasainternational.academy
SUMMARY:IGCSE options evening
DESCRIPTION:
URL:https://nyasainternational.academy/event/igcse-options-evening/
END:VEVENT
BEGIN:VEVENT
DTSTART;TZID=UTC:20220518T070000
DTEND;TZID=UTC:20220518T073000
DTSTAMP:20260425T113806
CREATED:20220426T082652Z
LAST-MODIFIED:20220426T082652Z
UID:2844-1652857200-1652859000@nyasainternational.academy
SUMMARY:Year 3 Assembly
DESCRIPTION:
URL:https://nyasainternational.academy/event/year-3-assembly-2/
END:VEVENT
BEGIN:VEVENT
DTSTART;TZID=UTC:20220517T070000
DTEND;TZID=UTC:20220517T123000
DTSTAMP:20260425T113806
CREATED:20220426T072115Z
LAST-MODIFIED:20220426T072115Z
UID:2838-1652770800-1652790600@nyasainternational.academy
SUMMARY:Feedback given to students - for speech
DESCRIPTION:
URL:https://nyasainternational.academy/event/feedback-given-to-students-for-speech/
END:VEVENT
BEGIN:VEVENT
DTSTART;VALUE=DATE:20220516
DTEND;VALUE=DATE:20220517
DTSTAMP:20260425T113806
CREATED:20211004T120927Z
LAST-MODIFIED:20211004T121007Z
UID:2118-1652659200-1652745599@nyasainternational.academy
SUMMARY:Kamuzu Day (Public Holiday)
DESCRIPTION:
URL:https://nyasainternational.academy/event/kamuzu-day-public-holiday/
END:VEVENT
BEGIN:VEVENT
DTSTART;TZID=UTC:20220513T070000
DTEND;TZID=UTC:20220513T073000
DTSTAMP:20260425T113806
CREATED:20220426T063634Z
LAST-MODIFIED:20220426T063721Z
UID:2835-1652425200-1652427000@nyasainternational.academy
SUMMARY:Assembly - CHS
DESCRIPTION:
URL:https://nyasainternational.academy/event/assembly-chs/
END:VEVENT
BEGIN:VEVENT
DTSTART;VALUE=DATE:20220513
DTEND;VALUE=DATE:20220514
DTSTAMP:20260425T113806
CREATED:20220426T082238Z
LAST-MODIFIED:20220426T082238Z
UID:2840-1652400000-1652486399@nyasainternational.academy
SUMMARY:Written speech in
DESCRIPTION:
URL:https://nyasainternational.academy/event/written-speech-in/
END:VEVENT
BEGIN:VEVENT
DTSTART;TZID=UTC:20220511T070000
DTEND;TZID=UTC:20220511T073000
DTSTAMP:20260425T113806
CREATED:20220426T062219Z
LAST-MODIFIED:20220426T062219Z
UID:2832-1652252400-1652254200@nyasainternational.academy
SUMMARY:Year 4 Assembly
DESCRIPTION:
URL:https://nyasainternational.academy/event/year-4-assembly-2/
END:VEVENT
BEGIN:VEVENT
DTSTART;TZID=UTC:20220510T123000
DTEND;TZID=UTC:20220510T150000
DTSTAMP:20260425T113806
CREATED:20220426T062102Z
LAST-MODIFIED:20220426T062102Z
UID:2830-1652185800-1652194800@nyasainternational.academy
SUMMARY:NISA Squad
DESCRIPTION:
URL:https://nyasainternational.academy/event/nisa-squad/
END:VEVENT
BEGIN:VEVENT
DTSTART;TZID=UTC:20220509T130000
DTEND;TZID=UTC:20220509T150000
DTSTAMP:20260425T113806
CREATED:20220426T061810Z
LAST-MODIFIED:20220426T061909Z
UID:2828-1652101200-1652108400@nyasainternational.academy
SUMMARY:Clubs start
DESCRIPTION:
URL:https://nyasainternational.academy/event/clubs-start-4/
END:VEVENT
BEGIN:VEVENT
DTSTART;VALUE=DATE:20220509
DTEND;VALUE=DATE:20220510
DTSTAMP:20260425T113806
CREATED:20220426T060455Z
LAST-MODIFIED:20220426T061715Z
UID:2826-1652054400-1652140799@nyasainternational.academy
SUMMARY:Year 6 & Year 9 back
DESCRIPTION:
URL:https://nyasainternational.academy/event/year-6-year-9-back/
END:VEVENT
BEGIN:VEVENT
DTSTART;VALUE=DATE:20220506
DTEND;VALUE=DATE:20220507
DTSTAMP:20260425T113806
CREATED:20220426T060247Z
LAST-MODIFIED:20220426T060247Z
UID:2824-1651795200-1651881599@nyasainternational.academy
SUMMARY:Speech titles given to Yr4 - Yr9
DESCRIPTION:
URL:https://nyasainternational.academy/event/speech-titles-given-to-yr4-yr9/
END:VEVENT
BEGIN:VEVENT
DTSTART;TZID=UTC:20220504T080000
DTEND;TZID=UTC:20220504T123000
DTSTAMP:20260425T113806
CREATED:20220426T055642Z
LAST-MODIFIED:20220426T055642Z
UID:2822-1651651200-1651667400@nyasainternational.academy
SUMMARY:Maths CPD
DESCRIPTION:
URL:https://nyasainternational.academy/event/maths-cpd/
END:VEVENT
BEGIN:VEVENT
DTSTART;TZID=UTC:20220504T070000
DTEND;TZID=UTC:20220504T073000
DTSTAMP:20260425T113806
CREATED:20220426T053514Z
LAST-MODIFIED:20220426T053514Z
UID:2813-1651647600-1651649400@nyasainternational.academy
SUMMARY:Year 5 Assembly
DESCRIPTION:
URL:https://nyasainternational.academy/event/year-5-assembly/
END:VEVENT
BEGIN:VEVENT
DTSTART;VALUE=DATE:20220503
DTEND;VALUE=DATE:20220504
DTSTAMP:20260425T113806
CREATED:20211004T120818Z
LAST-MODIFIED:20220426T055426Z
UID:2116-1651536000-1651622399@nyasainternational.academy
SUMMARY:Labour Day (Public holiday)
DESCRIPTION:
URL:https://nyasainternational.academy/event/labour-day-public-holiday/
END:VEVENT
BEGIN:VEVENT
DTSTART;VALUE=DATE:20220502
DTEND;VALUE=DATE:20220503
DTSTAMP:20260425T113806
CREATED:20220426T055126Z
LAST-MODIFIED:20220426T055230Z
UID:2817-1651449600-1651535999@nyasainternational.academy
SUMMARY:E-id Holiday - TBC
DESCRIPTION:
URL:https://nyasainternational.academy/event/eid-holiday-tbc/
END:VEVENT
BEGIN:VEVENT
DTSTART;TZID=UTC:20220429T070000
DTEND;TZID=UTC:20220429T073000
DTSTAMP:20260425T113806
CREATED:20220426T054904Z
LAST-MODIFIED:20220426T054904Z
UID:2815-1651215600-1651217400@nyasainternational.academy
SUMMARY:Assembly - Yr7  to Yr9 - SCG
DESCRIPTION:
URL:https://nyasainternational.academy/event/assembly-yr7-to-yr9-scg/
END:VEVENT
BEGIN:VEVENT
DTSTART;TZID=UTC:20220428T080000
DTEND;TZID=UTC:20220506T170000
DTSTAMP:20260425T113806
CREATED:20220426T053355Z
LAST-MODIFIED:20220426T053355Z
UID:2811-1651132800-1651856400@nyasainternational.academy
SUMMARY:Yr6 & Yr9 Off
DESCRIPTION:
URL:https://nyasainternational.academy/event/yr6-yr9-off/
END:VEVENT
BEGIN:VEVENT
DTSTART;TZID=Africa/Abidjan:20220428T073000
DTEND;TZID=Africa/Abidjan:20220428T120000
DTSTAMP:20260425T113806
CREATED:20220428T065625Z
LAST-MODIFIED:20220428T065625Z
UID:2862-1651131000-1651147200@nyasainternational.academy
SUMMARY:NJA - Assessment week
DESCRIPTION:
URL:https://nyasainternational.academy/event/nja-assessment-week/
END:VEVENT
BEGIN:VEVENT
DTSTART;TZID=UTC:20220427T080000
DTEND;TZID=UTC:20220427T120000
DTSTAMP:20260425T113806
CREATED:20220426T053126Z
LAST-MODIFIED:20220426T053152Z
UID:2809-1651046400-1651060800@nyasainternational.academy
SUMMARY:Checkpoint Science - Yr6 & Yr9
DESCRIPTION:
URL:https://nyasainternational.academy/event/checkpoint-science-yr6-yr9/
END:VEVENT
BEGIN:VEVENT
DTSTART;TZID=UTC:20220426T080000
DTEND;TZID=UTC:20220426T120000
DTSTAMP:20260425T113806
CREATED:20220426T053033Z
LAST-MODIFIED:20220426T053033Z
UID:2807-1650960000-1650974400@nyasainternational.academy
SUMMARY:Checkpoint Maths- Yr6 & Yr9
DESCRIPTION:
URL:https://nyasainternational.academy/event/checkpoint-maths-yr6-yr9/
END:VEVENT
BEGIN:VEVENT
DTSTART;VALUE=DATE:20220426
DTEND;VALUE=DATE:20220427
DTSTAMP:20260425T113806
CREATED:20211004T120605Z
LAST-MODIFIED:20211004T120714Z
UID:2113-1650931200-1651017599@nyasainternational.academy
SUMMARY:Start of third term
DESCRIPTION:
URL:https://nyasainternational.academy/event/start-of-term/
END:VEVENT
BEGIN:VEVENT
DTSTART;VALUE=DATE:20220408
DTEND;VALUE=DATE:20220409
DTSTAMP:20260425T113806
CREATED:20211004T120231Z
LAST-MODIFIED:20211004T120259Z
UID:2111-1649376000-1649462399@nyasainternational.academy
SUMMARY:End of term
DESCRIPTION:
URL:https://nyasainternational.academy/event/end-of-term-2/
END:VEVENT
BEGIN:VEVENT
DTSTART;TZID=UTC:20220406T080000
DTEND;TZID=UTC:20220406T170000
DTSTAMP:20260425T113806
CREATED:20220126T103824Z
LAST-MODIFIED:20220126T103824Z
UID:2755-1649232000-1649264400@nyasainternational.academy
SUMMARY:Spelling Bee - Yr3 to Yr6
DESCRIPTION:
URL:https://nyasainternational.academy/event/spelling-bee-yr3-to-yr6/
END:VEVENT
BEGIN:VEVENT
DTSTART;VALUE=DATE:20220405
DTEND;VALUE=DATE:20220406
DTSTAMP:20260425T113806
CREATED:20220126T090251Z
LAST-MODIFIED:20220126T103736Z
UID:2746-1649116800-1649203199@nyasainternational.academy
SUMMARY:Spelling Bee - Stars to Yr2
DESCRIPTION:
URL:https://nyasainternational.academy/event/spelling-bee-primary/
END:VEVENT
BEGIN:VEVENT
DTSTART;TZID=UTC:20220331T130000
DTEND;TZID=UTC:20220331T153000
DTSTAMP:20260425T113806
CREATED:20220126T104020Z
LAST-MODIFIED:20220126T105055Z
UID:2758-1648731600-1648740600@nyasainternational.academy
SUMMARY:PTM - Yr6
DESCRIPTION:
URL:https://nyasainternational.academy/event/ptm-yr6/
END:VEVENT
BEGIN:VEVENT
DTSTART;TZID=UTC:20220330T070000
DTEND;TZID=UTC:20220330T073000
DTSTAMP:20260425T113806
CREATED:20220126T080954Z
LAST-MODIFIED:20220126T080954Z
UID:2738-1648623600-1648625400@nyasainternational.academy
SUMMARY:Clubs Assembly
DESCRIPTION:
URL:https://nyasainternational.academy/event/clubs-assembly-2/
END:VEVENT
BEGIN:VEVENT
DTSTART;TZID=UTC:20220328T080000
DTEND;TZID=UTC:20220330T170000
DTSTAMP:20260425T113806
CREATED:20220126T080836Z
LAST-MODIFIED:20220126T080836Z
UID:2736-1648454400-1648659600@nyasainternational.academy
SUMMARY:Parent Teacher Meeting
DESCRIPTION:
URL:https://nyasainternational.academy/event/parent-teacher-meeting-2/
END:VEVENT
BEGIN:VEVENT
DTSTART;VALUE=DATE:20220327
DTEND;VALUE=DATE:20220328
DTSTAMP:20260425T113806
CREATED:20220323T085639Z
LAST-MODIFIED:20220323T085649Z
UID:2802-1648339200-1648425599@nyasainternational.academy
SUMMARY:FAMILY FUN DAY
DESCRIPTION:
URL:https://nyasainternational.academy/event/family-fun-day/
LOCATION:Nyasa International Academy\, P.O. Box E762 Post Dot Net Blantyre\, Blantyre\, Malawi
ATTACH;FMTTYPE=image/jpeg:https://nyasainternational.academy/wp-content/uploads/2022/03/IMG-20220318-WA0004.jpg
END:VEVENT
BEGIN:VEVENT
DTSTART;TZID=UTC:20220323T070000
DTEND;TZID=UTC:20220323T073000
DTSTAMP:20260425T113806
CREATED:20220126T080646Z
LAST-MODIFIED:20220126T080646Z
UID:2734-1648018800-1648020600@nyasainternational.academy
SUMMARY:French Assembly
DESCRIPTION:
URL:https://nyasainternational.academy/event/french-assembly-2/
END:VEVENT
END:VCALENDAR