BEGIN:VCALENDAR
VERSION:2.0
PRODID:-//NYASA INTERNATIONAL ACADEMY - ECPv6.15.20//NONSGML v1.0//EN
CALSCALE:GREGORIAN
METHOD:PUBLISH
X-WR-CALNAME:NYASA INTERNATIONAL ACADEMY
X-ORIGINAL-URL:https://nyasainternational.academy
X-WR-CALDESC:Events for NYASA INTERNATIONAL ACADEMY
REFRESH-INTERVAL;VALUE=DURATION:PT1H
X-Robots-Tag:noindex
X-PUBLISHED-TTL:PT1H
BEGIN:VTIMEZONE
TZID:UTC
BEGIN:STANDARD
TZOFFSETFROM:+0000
TZOFFSETTO:+0000
TZNAME:UTC
DTSTART:20210101T000000
END:STANDARD
END:VTIMEZONE
BEGIN:VEVENT
DTSTART;TZID=UTC:20230125T070000
DTEND;TZID=UTC:20230125T073000
DTSTAMP:20260425T120532
CREATED:20230117T094349Z
LAST-MODIFIED:20230117T094349Z
UID:3937-1674630000-1674631800@nyasainternational.academy
SUMMARY:Year 1 Assembly
DESCRIPTION:
URL:https://nyasainternational.academy/event/year-1-assembly-3/
END:VEVENT
BEGIN:VEVENT
DTSTART;VALUE=DATE:20230124
DTEND;VALUE=DATE:20230125
DTSTAMP:20260425T120532
CREATED:20230117T094224Z
LAST-MODIFIED:20230117T094224Z
UID:3935-1674518400-1674604799@nyasainternational.academy
SUMMARY:International day of Education
DESCRIPTION:
URL:https://nyasainternational.academy/event/international-day-of-education/
END:VEVENT
BEGIN:VEVENT
DTSTART;VALUE=DATE:20230116
DTEND;VALUE=DATE:20230117
DTSTAMP:20260425T120532
CREATED:20221130T092107Z
LAST-MODIFIED:20221130T092107Z
UID:3860-1673827200-1673913599@nyasainternational.academy
SUMMARY:Public Holiday - John Chilembwe Day
DESCRIPTION:
URL:https://nyasainternational.academy/event/public-holiday-john-chilembwe-day/
END:VEVENT
BEGIN:VEVENT
DTSTART;TZID=UTC:20230110T070000
DTEND;TZID=UTC:20230110T123000
DTSTAMP:20260425T120532
CREATED:20221130T091956Z
LAST-MODIFIED:20221130T091956Z
UID:3858-1673334000-1673353800@nyasainternational.academy
SUMMARY:First day of term - All students in school
DESCRIPTION:
URL:https://nyasainternational.academy/event/first-day-of-term-all-students-in-school/
END:VEVENT
BEGIN:VEVENT
DTSTART;TZID=UTC:20221208T073000
DTEND;TZID=UTC:20221208T123000
DTSTAMP:20260425T120532
CREATED:20220916T071827Z
LAST-MODIFIED:20221101T140110Z
UID:3480-1670484600-1670502600@nyasainternational.academy
SUMMARY:Last day of term - Interhouse Football
DESCRIPTION:
URL:https://nyasainternational.academy/event/last-day-of-term-interhouse-football/
END:VEVENT
BEGIN:VEVENT
DTSTART;TZID=UTC:20221202T181500
DTEND;TZID=UTC:20221202T210000
DTSTAMP:20260425T120532
CREATED:20221101T130532Z
LAST-MODIFIED:20221130T092213Z
UID:3621-1670004900-1670014800@nyasainternational.academy
SUMMARY:Concert - Global Festivals - Evening Event
DESCRIPTION:
URL:https://nyasainternational.academy/event/concert-2/
END:VEVENT
BEGIN:VEVENT
DTSTART;TZID=UTC:20221201T070000
DTEND;TZID=UTC:20221201T123000
DTSTAMP:20260425T120532
CREATED:20220916T071720Z
LAST-MODIFIED:20221130T091319Z
UID:3478-1669878000-1669897800@nyasainternational.academy
SUMMARY:Concert - Dress Rehearsal
DESCRIPTION:
URL:https://nyasainternational.academy/event/concert/
END:VEVENT
BEGIN:VEVENT
DTSTART;TZID=UTC:20221123T073000
DTEND;TZID=UTC:20221123T123000
DTSTAMP:20260425T120532
CREATED:20220916T065757Z
LAST-MODIFIED:20221122T104844Z
UID:3471-1669188600-1669206600@nyasainternational.academy
SUMMARY:Watch Me Work
DESCRIPTION:
URL:https://nyasainternational.academy/event/watch-me-work/
END:VEVENT
BEGIN:VEVENT
DTSTART;TZID=UTC:20221122T073000
DTEND;TZID=UTC:20221122T130000
DTSTAMP:20260425T120532
CREATED:20220916T072011Z
LAST-MODIFIED:20220916T072011Z
UID:3482-1669102200-1669122000@nyasainternational.academy
SUMMARY:Parent Teacher Meeting
DESCRIPTION:
URL:https://nyasainternational.academy/event/parent-teacher-meeting-3/
LOCATION:Nyasa International Academy\, P.O. Box E762 Post Dot Net Blantyre\, Blantyre\, Malawi
END:VEVENT
BEGIN:VEVENT
DTSTART;TZID=UTC:20221117T073000
DTEND;TZID=UTC:20221117T120000
DTSTAMP:20260425T120532
CREATED:20220916T064452Z
LAST-MODIFIED:20221101T135130Z
UID:3465-1668670200-1668686400@nyasainternational.academy
SUMMARY:Stars Excursion
DESCRIPTION:
URL:https://nyasainternational.academy/event/stars-excursion/
END:VEVENT
BEGIN:VEVENT
DTSTART;TZID=UTC:20221116T070000
DTEND;TZID=UTC:20221116T073000
DTSTAMP:20260425T120532
CREATED:20220916T064415Z
LAST-MODIFIED:20220916T064415Z
UID:3463-1668582000-1668583800@nyasainternational.academy
SUMMARY:Yr 3 Assembly
DESCRIPTION:
URL:https://nyasainternational.academy/event/yr-3-assembly/
END:VEVENT
BEGIN:VEVENT
DTSTART;TZID=UTC:20221111T073000
DTEND;TZID=UTC:20221111T123000
DTSTAMP:20260425T120532
CREATED:20220916T064605Z
LAST-MODIFIED:20221101T134950Z
UID:3467-1668151800-1668169800@nyasainternational.academy
SUMMARY:Remembrance Day
DESCRIPTION:
URL:https://nyasainternational.academy/event/remembrance-day/
END:VEVENT
BEGIN:VEVENT
DTSTART;TZID=UTC:20221110T073000
DTEND;TZID=UTC:20221110T123000
DTSTAMP:20260425T120532
CREATED:20220916T064208Z
LAST-MODIFIED:20221101T134053Z
UID:3461-1668065400-1668083400@nyasainternational.academy
SUMMARY:Reception Excursion
DESCRIPTION:
URL:https://nyasainternational.academy/event/reception-excursion/
END:VEVENT
BEGIN:VEVENT
DTSTART;TZID=UTC:20221109T080000
DTEND;TZID=UTC:20221109T170000
DTSTAMP:20260425T120532
CREATED:20220916T064030Z
LAST-MODIFIED:20220916T064030Z
UID:3458-1667980800-1668013200@nyasainternational.academy
SUMMARY:Yr 4 Assembly
DESCRIPTION:
URL:https://nyasainternational.academy/event/yr-4-assembly/
END:VEVENT
BEGIN:VEVENT
DTSTART;TZID=UTC:20221103T073000
DTEND;TZID=UTC:20221103T120000
DTSTAMP:20260425T120532
CREATED:20220916T063939Z
LAST-MODIFIED:20221101T133815Z
UID:3456-1667460600-1667476800@nyasainternational.academy
SUMMARY:YR 1 Excursion
DESCRIPTION:
URL:https://nyasainternational.academy/event/yr1-excursion/
END:VEVENT
BEGIN:VEVENT
DTSTART;TZID=UTC:20221102T070000
DTEND;TZID=UTC:20221102T073000
DTSTAMP:20260425T120532
CREATED:20220916T063610Z
LAST-MODIFIED:20220916T063610Z
UID:3451-1667372400-1667374200@nyasainternational.academy
SUMMARY:Yr 5 Assembly
DESCRIPTION:
URL:https://nyasainternational.academy/event/yr-5-assembly/
END:VEVENT
BEGIN:VEVENT
DTSTART;TZID=UTC:20221101T073000
DTEND;TZID=UTC:20221101T120000
DTSTAMP:20260425T120532
CREATED:20220916T062343Z
LAST-MODIFIED:20221101T125821Z
UID:3447-1667287800-1667304000@nyasainternational.academy
SUMMARY:Class Photos
DESCRIPTION:
URL:https://nyasainternational.academy/event/class-photos/
END:VEVENT
BEGIN:VEVENT
DTSTART;TZID=UTC:20221030T100000
DTEND;TZID=UTC:20221030T153000
DTSTAMP:20260425T120532
CREATED:20221025T053446Z
LAST-MODIFIED:20221025T053738Z
UID:3583-1667124000-1667143800@nyasainternational.academy
SUMMARY:Family Fun Day - 40th Anniversary - NIA
DESCRIPTION:
URL:https://nyasainternational.academy/event/family-fun-day-40th-anniversary-nia/
LOCATION:Nyasa International Academy\, P.O. Box E762 Post Dot Net Blantyre\, Blantyre\, Malawi
END:VEVENT
BEGIN:VEVENT
DTSTART;TZID=UTC:20221027T073000
DTEND;TZID=UTC:20221027T120000
DTSTAMP:20260425T120532
CREATED:20220916T062248Z
LAST-MODIFIED:20221101T125725Z
UID:3445-1666855800-1666872000@nyasainternational.academy
SUMMARY:Yr2 Excursion
DESCRIPTION:
URL:https://nyasainternational.academy/event/yr2-excursion/
END:VEVENT
BEGIN:VEVENT
DTSTART;TZID=UTC:20221026T070000
DTEND;TZID=UTC:20221026T073000
DTSTAMP:20260425T120532
CREATED:20220916T062153Z
LAST-MODIFIED:20220916T062153Z
UID:3443-1666767600-1666769400@nyasainternational.academy
SUMMARY:Yr6 Assembly
DESCRIPTION:
URL:https://nyasainternational.academy/event/yr6-assembly/
END:VEVENT
BEGIN:VEVENT
DTSTART;VALUE=DATE:20221024
DTEND;VALUE=DATE:20221025
DTSTAMP:20260425T120532
CREATED:20220916T062010Z
LAST-MODIFIED:20220916T062010Z
UID:3441-1666569600-1666655999@nyasainternational.academy
SUMMARY:Diwali
DESCRIPTION:
URL:https://nyasainternational.academy/event/diwali/
END:VEVENT
BEGIN:VEVENT
DTSTART;VALUE=DATE:20221017
DTEND;VALUE=DATE:20221022
DTSTAMP:20260425T120532
CREATED:20220916T061903Z
LAST-MODIFIED:20220916T061903Z
UID:3439-1665964800-1666396799@nyasainternational.academy
SUMMARY:MID-TERM BREAK
DESCRIPTION:
URL:https://nyasainternational.academy/event/mid-term-break/
END:VEVENT
BEGIN:VEVENT
DTSTART;VALUE=DATE:20221014
DTEND;VALUE=DATE:20221015
DTSTAMP:20260425T120532
CREATED:20220916T061719Z
LAST-MODIFIED:20220916T064848Z
UID:3437-1665705600-1665791999@nyasainternational.academy
SUMMARY:Mothers` Day Assembly - NISA
DESCRIPTION:
URL:https://nyasainternational.academy/event/mothers-day-assembly/
LOCATION:Nyasa International Academy\, P.O. Box E762 Post Dot Net Blantyre\, Blantyre\, Malawi
END:VEVENT
BEGIN:VEVENT
DTSTART;TZID=UTC:20221012T080000
DTEND;TZID=UTC:20221012T123000
DTSTAMP:20260425T120532
CREATED:20220916T061533Z
LAST-MODIFIED:20220916T064802Z
UID:3435-1665561600-1665577800@nyasainternational.academy
SUMMARY:Grandparents Day - NJA
DESCRIPTION:
URL:https://nyasainternational.academy/event/grandparents-day-2/
LOCATION:Nyasa International Academy\, P.O. Box E762 Post Dot Net Blantyre\, Blantyre\, Malawi
END:VEVENT
BEGIN:VEVENT
DTSTART;VALUE=DATE:20221009
DTEND;VALUE=DATE:20221010
DTSTAMP:20260425T120532
CREATED:20220916T061242Z
LAST-MODIFIED:20220916T061242Z
UID:3429-1665273600-1665359999@nyasainternational.academy
SUMMARY:Celebrating 40 years -NIA
DESCRIPTION:
URL:https://nyasainternational.academy/event/celebrating-40-years-nia/
LOCATION:Nyasa International Academy\, P.O. Box E762 Post Dot Net Blantyre\, Blantyre\, Malawi
END:VEVENT
BEGIN:VEVENT
DTSTART;TZID=UTC:20221005T070000
DTEND;TZID=UTC:20221005T073000
DTSTAMP:20260425T120532
CREATED:20220916T060040Z
LAST-MODIFIED:20220916T060040Z
UID:3425-1664953200-1664955000@nyasainternational.academy
SUMMARY:Stars Assembly
DESCRIPTION:
URL:https://nyasainternational.academy/event/stars-assembly/
END:VEVENT
BEGIN:VEVENT
DTSTART;VALUE=DATE:20221005
DTEND;VALUE=DATE:20221006
DTSTAMP:20260425T120532
CREATED:20220916T060312Z
LAST-MODIFIED:20220916T060312Z
UID:3427-1664928000-1665014399@nyasainternational.academy
SUMMARY:World Teachers` Day
DESCRIPTION:
URL:https://nyasainternational.academy/event/world-teachers-day-2/
END:VEVENT
BEGIN:VEVENT
DTSTART;TZID=UTC:20221001T080000
DTEND;TZID=UTC:20221031T170000
DTSTAMP:20260425T120532
CREATED:20220916T071425Z
LAST-MODIFIED:20220916T071425Z
UID:3476-1664611200-1667235600@nyasainternational.academy
SUMMARY:Cyber Security Awarenes Month
DESCRIPTION:
URL:https://nyasainternational.academy/event/cyber-security-awarenes-month/
END:VEVENT
BEGIN:VEVENT
DTSTART;TZID=UTC:20220928T070000
DTEND;TZID=UTC:20220928T073000
DTSTAMP:20260425T120532
CREATED:20220916T055854Z
LAST-MODIFIED:20220916T055854Z
UID:3423-1664348400-1664350200@nyasainternational.academy
SUMMARY:Reception Assembly
DESCRIPTION:
URL:https://nyasainternational.academy/event/reception-assembly-3/
END:VEVENT
BEGIN:VEVENT
DTSTART;TZID=UTC:20220921T070000
DTEND;TZID=UTC:20220921T073000
DTSTAMP:20260425T120532
CREATED:20220916T055657Z
LAST-MODIFIED:20220916T055657Z
UID:3421-1663743600-1663745400@nyasainternational.academy
SUMMARY:Yr1 Assembly
DESCRIPTION:
URL:https://nyasainternational.academy/event/yr1-assembly-2/
END:VEVENT
END:VCALENDAR