BEGIN:VCALENDAR
VERSION:2.0
PRODID:-//NYASA INTERNATIONAL ACADEMY - ECPv6.15.20//NONSGML v1.0//EN
CALSCALE:GREGORIAN
METHOD:PUBLISH
X-WR-CALNAME:NYASA INTERNATIONAL ACADEMY
X-ORIGINAL-URL:https://nyasainternational.academy
X-WR-CALDESC:Events for NYASA INTERNATIONAL ACADEMY
REFRESH-INTERVAL;VALUE=DURATION:PT1H
X-Robots-Tag:noindex
X-PUBLISHED-TTL:PT1H
BEGIN:VTIMEZONE
TZID:UTC
BEGIN:STANDARD
TZOFFSETFROM:+0000
TZOFFSETTO:+0000
TZNAME:UTC
DTSTART:20220101T000000
END:STANDARD
END:VTIMEZONE
BEGIN:VEVENT
DTSTART;TZID=UTC:20240116T070000
DTEND;TZID=UTC:20240123T123000
DTSTAMP:20260425T134907
CREATED:20231205T065340Z
LAST-MODIFIED:20231205T065353Z
UID:4590-1705388400-1706013000@nyasainternational.academy
SUMMARY:First Mock Exams for Year 11
DESCRIPTION:
URL:https://nyasainternational.academy/event/first-mock-exams-for-year-11/
END:VEVENT
BEGIN:VEVENT
DTSTART;VALUE=DATE:20240115
DTEND;VALUE=DATE:20240116
DTSTAMP:20260425T134907
CREATED:20230810T060803Z
LAST-MODIFIED:20230810T061043Z
UID:4533-1705276800-1705363199@nyasainternational.academy
SUMMARY:John Chilembwe Day
DESCRIPTION:
URL:https://nyasainternational.academy/event/john-chilembwe-day/
END:VEVENT
BEGIN:VEVENT
DTSTART;TZID=UTC:20240112T070000
DTEND;TZID=UTC:20240112T073000
DTSTAMP:20260425T134907
CREATED:20231205T064645Z
LAST-MODIFIED:20231205T064715Z
UID:4588-1705042800-1705044600@nyasainternational.academy
SUMMARY:John Chilembwe Assembly -Secondary
DESCRIPTION:
URL:https://nyasainternational.academy/event/john-chilembwe-assembly-secondary/
END:VEVENT
BEGIN:VEVENT
DTSTART;TZID=UTC:20240110T070000
DTEND;TZID=UTC:20240110T073000
DTSTAMP:20260425T134907
CREATED:20231205T064316Z
LAST-MODIFIED:20231205T064316Z
UID:4583-1704870000-1704871800@nyasainternational.academy
SUMMARY:Tree Planting Assembly - Primary
DESCRIPTION:
URL:https://nyasainternational.academy/event/tree-planting-assembly-primary/
END:VEVENT
BEGIN:VEVENT
DTSTART;VALUE=DATE:20240110
DTEND;VALUE=DATE:20240111
DTSTAMP:20260425T134907
CREATED:20231205T064503Z
LAST-MODIFIED:20231205T064503Z
UID:4586-1704844800-1704931199@nyasainternational.academy
SUMMARY:Checkpoint PTM - Year 6
DESCRIPTION:
URL:https://nyasainternational.academy/event/checkpoint-ptm-year-6/
END:VEVENT
BEGIN:VEVENT
DTSTART;TZID=UTC:20240109T080000
DTEND;TZID=UTC:20240109T170000
DTSTAMP:20260425T134907
CREATED:20231205T064141Z
LAST-MODIFIED:20231205T064141Z
UID:4581-1704787200-1704819600@nyasainternational.academy
SUMMARY:First day of term
DESCRIPTION:
URL:https://nyasainternational.academy/event/first-day-of-term-5/
END:VEVENT
BEGIN:VEVENT
DTSTART;VALUE=DATE:20240108
DTEND;VALUE=DATE:20240109
DTSTAMP:20260425T134907
CREATED:20231205T063733Z
LAST-MODIFIED:20231205T063913Z
UID:4579-1704672000-1704758399@nyasainternational.academy
SUMMARY:First Day of term for Year 11
DESCRIPTION:
URL:https://nyasainternational.academy/event/first-day-of-term-for-year-11/
END:VEVENT
BEGIN:VEVENT
DTSTART;VALUE=DATE:20231209
DTEND;VALUE=DATE:20240109
DTSTAMP:20260425T134907
CREATED:20230810T055931Z
LAST-MODIFIED:20230810T055931Z
UID:4531-1702080000-1704758399@nyasainternational.academy
SUMMARY:Christmas Break
DESCRIPTION:
URL:https://nyasainternational.academy/event/christmas-break/
END:VEVENT
BEGIN:VEVENT
DTSTART;TZID=UTC:20231207T093000
DTEND;TZID=UTC:20231207T113000
DTSTAMP:20260425T134907
CREATED:20231205T101759Z
LAST-MODIFIED:20231205T101759Z
UID:4671-1701941400-1701948600@nyasainternational.academy
SUMMARY:Swimming Gala
DESCRIPTION:
URL:https://nyasainternational.academy/event/swimming-gala-2/
END:VEVENT
BEGIN:VEVENT
DTSTART;VALUE=DATE:20231016
DTEND;VALUE=DATE:20231021
DTSTAMP:20260425T134907
CREATED:20230810T055649Z
LAST-MODIFIED:20230810T055649Z
UID:4529-1697414400-1697846399@nyasainternational.academy
SUMMARY:Half Term Break
DESCRIPTION:
URL:https://nyasainternational.academy/event/half-term-break-5/
END:VEVENT
BEGIN:VEVENT
DTSTART;VALUE=DATE:20230905
DTEND;VALUE=DATE:20230906
DTSTAMP:20260425T134907
CREATED:20230810T054342Z
LAST-MODIFIED:20230810T054950Z
UID:4527-1693872000-1693958399@nyasainternational.academy
SUMMARY:First Day of term
DESCRIPTION:
URL:https://nyasainternational.academy/event/first-day-of-term-4/
END:VEVENT
BEGIN:VEVENT
DTSTART;TZID=UTC:20230705T070000
DTEND;TZID=UTC:20230705T123000
DTSTAMP:20260425T134907
CREATED:20221130T112208Z
LAST-MODIFIED:20221130T112300Z
UID:3882-1688540400-1688560200@nyasainternational.academy
SUMMARY:End of term
DESCRIPTION:
URL:https://nyasainternational.academy/event/end-of-term-4/
END:VEVENT
BEGIN:VEVENT
DTSTART;VALUE=DATE:20230601
DTEND;VALUE=DATE:20230603
DTSTAMP:20260425T134907
CREATED:20221130T112049Z
LAST-MODIFIED:20221130T112049Z
UID:3880-1685577600-1685750399@nyasainternational.academy
SUMMARY:Half Term Break
DESCRIPTION:
URL:https://nyasainternational.academy/event/half-term-break-4/
END:VEVENT
BEGIN:VEVENT
DTSTART;VALUE=DATE:20230515
DTEND;VALUE=DATE:20230516
DTSTAMP:20260425T134907
CREATED:20221130T093500Z
LAST-MODIFIED:20221130T104342Z
UID:3877-1684108800-1684195199@nyasainternational.academy
SUMMARY:Kamuzu Day - Public Holiday
DESCRIPTION:
URL:https://nyasainternational.academy/event/kamuzu-day-public-holiday-2/
END:VEVENT
BEGIN:VEVENT
DTSTART;TZID=UTC:20230510T110000
DTEND;TZID=UTC:20230510T133000
DTSTAMP:20260425T134907
CREATED:20230502T102441Z
LAST-MODIFIED:20230502T103633Z
UID:4484-1683716400-1683725400@nyasainternational.academy
SUMMARY:NISA Open Day
DESCRIPTION:
URL:https://nyasainternational.academy/event/nisa-open-day/
END:VEVENT
BEGIN:VEVENT
DTSTART;TZID=UTC:20230503T070000
DTEND;TZID=UTC:20230503T073000
DTSTAMP:20260425T134907
CREATED:20230502T101929Z
LAST-MODIFIED:20230502T101929Z
UID:4482-1683097200-1683099000@nyasainternational.academy
SUMMARY:YR4 ASSEMBLY
DESCRIPTION:
URL:https://nyasainternational.academy/event/yr4-assembly-2/
END:VEVENT
BEGIN:VEVENT
DTSTART;TZID=UTC:20230502T073000
DTEND;TZID=UTC:20230502T120000
DTSTAMP:20260425T134907
CREATED:20230502T101234Z
LAST-MODIFIED:20230502T101234Z
UID:4480-1683012600-1683028800@nyasainternational.academy
SUMMARY:Speech titles out
DESCRIPTION:
URL:https://nyasainternational.academy/event/speech-titles-out/
END:VEVENT
BEGIN:VEVENT
DTSTART;VALUE=DATE:20230502
DTEND;VALUE=DATE:20230503
DTSTAMP:20260425T134907
CREATED:20230502T101126Z
LAST-MODIFIED:20230502T101126Z
UID:4478-1682985600-1683071999@nyasainternational.academy
SUMMARY:YR 9 Excursion
DESCRIPTION:
URL:https://nyasainternational.academy/event/yr-9-excursion/
END:VEVENT
BEGIN:VEVENT
DTSTART;VALUE=DATE:20230501
DTEND;VALUE=DATE:20230502
DTSTAMP:20260425T134907
CREATED:20221130T093332Z
LAST-MODIFIED:20221130T093427Z
UID:3875-1682899200-1682985599@nyasainternational.academy
SUMMARY:May Day - Public Holiday
DESCRIPTION:
URL:https://nyasainternational.academy/event/may-day-public-holiday/
END:VEVENT
BEGIN:VEVENT
DTSTART;TZID=UTC:20230425T070000
DTEND;TZID=UTC:20230425T123000
DTSTAMP:20260425T134907
CREATED:20221130T093057Z
LAST-MODIFIED:20221130T093057Z
UID:3872-1682406000-1682425800@nyasainternational.academy
SUMMARY:First day of term
DESCRIPTION:
URL:https://nyasainternational.academy/event/first-day-of-term-2/
END:VEVENT
BEGIN:VEVENT
DTSTART;VALUE=DATE:20230415
DTEND;VALUE=DATE:20230424
DTSTAMP:20260425T134907
CREATED:20221130T092820Z
LAST-MODIFIED:20230330T092708Z
UID:3870-1681516800-1682294399@nyasainternational.academy
SUMMARY:Easter Holidays
DESCRIPTION:
URL:https://nyasainternational.academy/event/easter-holidays/
END:VEVENT
BEGIN:VEVENT
DTSTART;VALUE=DATE:20230414
DTEND;VALUE=DATE:20230415
DTSTAMP:20260425T134907
CREATED:20221130T092618Z
LAST-MODIFIED:20230330T092923Z
UID:3868-1681430400-1681516799@nyasainternational.academy
SUMMARY:Last day of term
DESCRIPTION:
URL:https://nyasainternational.academy/event/last-day-of-term-3/
END:VEVENT
BEGIN:VEVENT
DTSTART;TZID=UTC:20230329T070000
DTEND;TZID=UTC:20230329T073000
DTSTAMP:20260425T134907
CREATED:20230201T125512Z
LAST-MODIFIED:20230201T125512Z
UID:4106-1680073200-1680075000@nyasainternational.academy
SUMMARY:French Assembly
DESCRIPTION:
URL:https://nyasainternational.academy/event/french-assembly-3/
END:VEVENT
BEGIN:VEVENT
DTSTART;TZID=UTC:20230322T070000
DTEND;TZID=UTC:20230322T073000
DTSTAMP:20260425T134907
CREATED:20230201T125352Z
LAST-MODIFIED:20230201T125352Z
UID:4104-1679468400-1679470200@nyasainternational.academy
SUMMARY:Reception Assembly
DESCRIPTION:
URL:https://nyasainternational.academy/event/reception-assembly-4/
END:VEVENT
BEGIN:VEVENT
DTSTART;TZID=UTC:20230316T100000
DTEND;TZID=UTC:20230316T123000
DTSTAMP:20260425T134907
CREATED:20230202T063803Z
LAST-MODIFIED:20230302T062926Z
UID:4111-1678960800-1678969800@nyasainternational.academy
SUMMARY:Swimming Gala - NISA
DESCRIPTION:
URL:https://nyasainternational.academy/event/swimming-gala-nisa/
END:VEVENT
BEGIN:VEVENT
DTSTART;TZID=UTC:20230315T070000
DTEND;TZID=UTC:20230315T073000
DTSTAMP:20260425T134907
CREATED:20230201T125112Z
LAST-MODIFIED:20230201T125112Z
UID:4101-1678863600-1678865400@nyasainternational.academy
SUMMARY:Year 5 Assembly
DESCRIPTION:
URL:https://nyasainternational.academy/event/year-5-assembly-2/
END:VEVENT
BEGIN:VEVENT
DTSTART;TZID=UTC:20230308T070000
DTEND;TZID=UTC:20230308T073000
DTSTAMP:20260425T134907
CREATED:20230201T124658Z
LAST-MODIFIED:20230201T124658Z
UID:4099-1678258800-1678260600@nyasainternational.academy
SUMMARY:Year 4 Assembly
DESCRIPTION:
URL:https://nyasainternational.academy/event/year-4-assembly-3/
END:VEVENT
BEGIN:VEVENT
DTSTART;VALUE=DATE:20230303
DTEND;VALUE=DATE:20230304
DTSTAMP:20260425T134907
CREATED:20221130T092500Z
LAST-MODIFIED:20221130T092500Z
UID:3866-1677801600-1677887999@nyasainternational.academy
SUMMARY:Martyr's Day - Public Holiday
DESCRIPTION:
URL:https://nyasainternational.academy/event/martyrs-day-public-holiday-3/
END:VEVENT
BEGIN:VEVENT
DTSTART;TZID=UTC:20230301T070000
DTEND;TZID=UTC:20230301T073000
DTSTAMP:20260425T134907
CREATED:20230201T124503Z
LAST-MODIFIED:20230201T124503Z
UID:4097-1677654000-1677655800@nyasainternational.academy
SUMMARY:Year 3 Assembly
DESCRIPTION:
URL:https://nyasainternational.academy/event/year-3-assembly-3/
END:VEVENT
BEGIN:VEVENT
DTSTART;VALUE=DATE:20230227
DTEND;VALUE=DATE:20230228
DTSTAMP:20260425T134907
CREATED:20230201T104356Z
LAST-MODIFIED:20230227T070719Z
UID:4094-1677456000-1677542399@nyasainternational.academy
SUMMARY:Founder's Day
DESCRIPTION:
URL:https://nyasainternational.academy/event/founders-day-2/
END:VEVENT
END:VCALENDAR