BEGIN:VCALENDAR
VERSION:2.0
PRODID:-//NYASA INTERNATIONAL ACADEMY - ECPv6.15.20//NONSGML v1.0//EN
CALSCALE:GREGORIAN
METHOD:PUBLISH
X-WR-CALNAME:NYASA INTERNATIONAL ACADEMY
X-ORIGINAL-URL:https://nyasainternational.academy
X-WR-CALDESC:Events for NYASA INTERNATIONAL ACADEMY
REFRESH-INTERVAL;VALUE=DURATION:PT1H
X-Robots-Tag:noindex
X-PUBLISHED-TTL:PT1H
BEGIN:VTIMEZONE
TZID:UTC
BEGIN:STANDARD
TZOFFSETFROM:+0000
TZOFFSETTO:+0000
TZNAME:UTC
DTSTART:20210101T000000
END:STANDARD
END:VTIMEZONE
BEGIN:VEVENT
DTSTART;TZID=UTC:20230502T073000
DTEND;TZID=UTC:20230502T120000
DTSTAMP:20260425T133954
CREATED:20230502T101234Z
LAST-MODIFIED:20230502T101234Z
UID:4480-1683012600-1683028800@nyasainternational.academy
SUMMARY:Speech titles out
DESCRIPTION:
URL:https://nyasainternational.academy/event/speech-titles-out/
END:VEVENT
BEGIN:VEVENT
DTSTART;VALUE=DATE:20230502
DTEND;VALUE=DATE:20230503
DTSTAMP:20260425T133954
CREATED:20230502T101126Z
LAST-MODIFIED:20230502T101126Z
UID:4478-1682985600-1683071999@nyasainternational.academy
SUMMARY:YR 9 Excursion
DESCRIPTION:
URL:https://nyasainternational.academy/event/yr-9-excursion/
END:VEVENT
BEGIN:VEVENT
DTSTART;VALUE=DATE:20230501
DTEND;VALUE=DATE:20230502
DTSTAMP:20260425T133954
CREATED:20221130T093332Z
LAST-MODIFIED:20221130T093427Z
UID:3875-1682899200-1682985599@nyasainternational.academy
SUMMARY:May Day - Public Holiday
DESCRIPTION:
URL:https://nyasainternational.academy/event/may-day-public-holiday/
END:VEVENT
BEGIN:VEVENT
DTSTART;TZID=UTC:20230425T070000
DTEND;TZID=UTC:20230425T123000
DTSTAMP:20260425T133954
CREATED:20221130T093057Z
LAST-MODIFIED:20221130T093057Z
UID:3872-1682406000-1682425800@nyasainternational.academy
SUMMARY:First day of term
DESCRIPTION:
URL:https://nyasainternational.academy/event/first-day-of-term-2/
END:VEVENT
BEGIN:VEVENT
DTSTART;VALUE=DATE:20230415
DTEND;VALUE=DATE:20230424
DTSTAMP:20260425T133954
CREATED:20221130T092820Z
LAST-MODIFIED:20230330T092708Z
UID:3870-1681516800-1682294399@nyasainternational.academy
SUMMARY:Easter Holidays
DESCRIPTION:
URL:https://nyasainternational.academy/event/easter-holidays/
END:VEVENT
BEGIN:VEVENT
DTSTART;VALUE=DATE:20230414
DTEND;VALUE=DATE:20230415
DTSTAMP:20260425T133954
CREATED:20221130T092618Z
LAST-MODIFIED:20230330T092923Z
UID:3868-1681430400-1681516799@nyasainternational.academy
SUMMARY:Last day of term
DESCRIPTION:
URL:https://nyasainternational.academy/event/last-day-of-term-3/
END:VEVENT
BEGIN:VEVENT
DTSTART;TZID=UTC:20230329T070000
DTEND;TZID=UTC:20230329T073000
DTSTAMP:20260425T133954
CREATED:20230201T125512Z
LAST-MODIFIED:20230201T125512Z
UID:4106-1680073200-1680075000@nyasainternational.academy
SUMMARY:French Assembly
DESCRIPTION:
URL:https://nyasainternational.academy/event/french-assembly-3/
END:VEVENT
BEGIN:VEVENT
DTSTART;TZID=UTC:20230322T070000
DTEND;TZID=UTC:20230322T073000
DTSTAMP:20260425T133954
CREATED:20230201T125352Z
LAST-MODIFIED:20230201T125352Z
UID:4104-1679468400-1679470200@nyasainternational.academy
SUMMARY:Reception Assembly
DESCRIPTION:
URL:https://nyasainternational.academy/event/reception-assembly-4/
END:VEVENT
BEGIN:VEVENT
DTSTART;TZID=UTC:20230316T100000
DTEND;TZID=UTC:20230316T123000
DTSTAMP:20260425T133954
CREATED:20230202T063803Z
LAST-MODIFIED:20230302T062926Z
UID:4111-1678960800-1678969800@nyasainternational.academy
SUMMARY:Swimming Gala - NISA
DESCRIPTION:
URL:https://nyasainternational.academy/event/swimming-gala-nisa/
END:VEVENT
BEGIN:VEVENT
DTSTART;TZID=UTC:20230315T070000
DTEND;TZID=UTC:20230315T073000
DTSTAMP:20260425T133954
CREATED:20230201T125112Z
LAST-MODIFIED:20230201T125112Z
UID:4101-1678863600-1678865400@nyasainternational.academy
SUMMARY:Year 5 Assembly
DESCRIPTION:
URL:https://nyasainternational.academy/event/year-5-assembly-2/
END:VEVENT
BEGIN:VEVENT
DTSTART;TZID=UTC:20230308T070000
DTEND;TZID=UTC:20230308T073000
DTSTAMP:20260425T133954
CREATED:20230201T124658Z
LAST-MODIFIED:20230201T124658Z
UID:4099-1678258800-1678260600@nyasainternational.academy
SUMMARY:Year 4 Assembly
DESCRIPTION:
URL:https://nyasainternational.academy/event/year-4-assembly-3/
END:VEVENT
BEGIN:VEVENT
DTSTART;VALUE=DATE:20230303
DTEND;VALUE=DATE:20230304
DTSTAMP:20260425T133954
CREATED:20221130T092500Z
LAST-MODIFIED:20221130T092500Z
UID:3866-1677801600-1677887999@nyasainternational.academy
SUMMARY:Martyr's Day - Public Holiday
DESCRIPTION:
URL:https://nyasainternational.academy/event/martyrs-day-public-holiday-3/
END:VEVENT
BEGIN:VEVENT
DTSTART;TZID=UTC:20230301T070000
DTEND;TZID=UTC:20230301T073000
DTSTAMP:20260425T133954
CREATED:20230201T124503Z
LAST-MODIFIED:20230201T124503Z
UID:4097-1677654000-1677655800@nyasainternational.academy
SUMMARY:Year 3 Assembly
DESCRIPTION:
URL:https://nyasainternational.academy/event/year-3-assembly-3/
END:VEVENT
BEGIN:VEVENT
DTSTART;VALUE=DATE:20230227
DTEND;VALUE=DATE:20230228
DTSTAMP:20260425T133954
CREATED:20230201T104356Z
LAST-MODIFIED:20230227T070719Z
UID:4094-1677456000-1677542399@nyasainternational.academy
SUMMARY:Founder's Day
DESCRIPTION:
URL:https://nyasainternational.academy/event/founders-day-2/
END:VEVENT
BEGIN:VEVENT
DTSTART;VALUE=DATE:20230220
DTEND;VALUE=DATE:20230225
DTSTAMP:20260425T133954
CREATED:20221130T092319Z
LAST-MODIFIED:20230201T103509Z
UID:3864-1676851200-1677283199@nyasainternational.academy
SUMMARY:Half Term Break - Yr 6 in
DESCRIPTION:
URL:https://nyasainternational.academy/event/half-term-break-3/
END:VEVENT
BEGIN:VEVENT
DTSTART;TZID=UTC:20230215T073000
DTEND;TZID=UTC:20230215T123000
DTSTAMP:20260425T133954
CREATED:20230201T103358Z
LAST-MODIFIED:20230201T103358Z
UID:4091-1676446200-1676464200@nyasainternational.academy
SUMMARY:Swimming Gala -NJA
DESCRIPTION:
URL:https://nyasainternational.academy/event/swimming-gala-nja/
END:VEVENT
BEGIN:VEVENT
DTSTART;TZID=UTC:20230208T070000
DTEND;TZID=UTC:20230208T073000
DTSTAMP:20260425T133954
CREATED:20230201T103025Z
LAST-MODIFIED:20230201T103025Z
UID:4089-1675839600-1675841400@nyasainternational.academy
SUMMARY:Year 2 Assembly
DESCRIPTION:
URL:https://nyasainternational.academy/event/year-2-assembly-2/
END:VEVENT
BEGIN:VEVENT
DTSTART;TZID=UTC:20230203T070000
DTEND;TZID=UTC:20230203T073000
DTSTAMP:20260425T133954
CREATED:20230201T102815Z
LAST-MODIFIED:20230201T102815Z
UID:4087-1675407600-1675409400@nyasainternational.academy
SUMMARY:Book Week Assembly
DESCRIPTION:
URL:https://nyasainternational.academy/event/book-week-assembly/
END:VEVENT
BEGIN:VEVENT
DTSTART;TZID=UTC:20230201T070000
DTEND;TZID=UTC:20230201T073000
DTSTAMP:20260425T133954
CREATED:20230201T091717Z
LAST-MODIFIED:20230201T092651Z
UID:4085-1675234800-1675236600@nyasainternational.academy
SUMMARY:World Read Aloud Day
DESCRIPTION:
URL:https://nyasainternational.academy/event/world-read-aloud-day-3/
END:VEVENT
BEGIN:VEVENT
DTSTART;TZID=UTC:20230201T070000
DTEND;TZID=UTC:20230201T073000
DTSTAMP:20260425T133954
CREATED:20230117T100138Z
LAST-MODIFIED:20230117T100138Z
UID:3945-1675234800-1675236600@nyasainternational.academy
SUMMARY:World Read Aloud Day
DESCRIPTION:
URL:https://nyasainternational.academy/event/world-read-aloud-day-2/
END:VEVENT
BEGIN:VEVENT
DTSTART;TZID=UTC:20230131T070000
DTEND;TZID=UTC:20230131T123000
DTSTAMP:20260425T133954
CREATED:20230117T095846Z
LAST-MODIFIED:20230117T095846Z
UID:3943-1675148400-1675168200@nyasainternational.academy
SUMMARY:Year 3 Excursion
DESCRIPTION:
URL:https://nyasainternational.academy/event/year-3-excursion/
END:VEVENT
BEGIN:VEVENT
DTSTART;VALUE=DATE:20230130
DTEND;VALUE=DATE:20230131
DTSTAMP:20260425T133954
CREATED:20230117T095703Z
LAST-MODIFIED:20230117T095703Z
UID:3941-1675036800-1675123199@nyasainternational.academy
SUMMARY:Book Week
DESCRIPTION:
URL:https://nyasainternational.academy/event/book-week-4/
END:VEVENT
BEGIN:VEVENT
DTSTART;VALUE=DATE:20230127
DTEND;VALUE=DATE:20230128
DTSTAMP:20260425T133954
CREATED:20230117T094642Z
LAST-MODIFIED:20230117T094642Z
UID:3939-1674777600-1674863999@nyasainternational.academy
SUMMARY:Cake Sale
DESCRIPTION:
URL:https://nyasainternational.academy/event/cake-sale/
END:VEVENT
BEGIN:VEVENT
DTSTART;TZID=UTC:20230125T070000
DTEND;TZID=UTC:20230125T073000
DTSTAMP:20260425T133954
CREATED:20230117T094349Z
LAST-MODIFIED:20230117T094349Z
UID:3937-1674630000-1674631800@nyasainternational.academy
SUMMARY:Year 1 Assembly
DESCRIPTION:
URL:https://nyasainternational.academy/event/year-1-assembly-3/
END:VEVENT
BEGIN:VEVENT
DTSTART;VALUE=DATE:20230124
DTEND;VALUE=DATE:20230125
DTSTAMP:20260425T133954
CREATED:20230117T094224Z
LAST-MODIFIED:20230117T094224Z
UID:3935-1674518400-1674604799@nyasainternational.academy
SUMMARY:International day of Education
DESCRIPTION:
URL:https://nyasainternational.academy/event/international-day-of-education/
END:VEVENT
BEGIN:VEVENT
DTSTART;VALUE=DATE:20230116
DTEND;VALUE=DATE:20230117
DTSTAMP:20260425T133954
CREATED:20221130T092107Z
LAST-MODIFIED:20221130T092107Z
UID:3860-1673827200-1673913599@nyasainternational.academy
SUMMARY:Public Holiday - John Chilembwe Day
DESCRIPTION:
URL:https://nyasainternational.academy/event/public-holiday-john-chilembwe-day/
END:VEVENT
BEGIN:VEVENT
DTSTART;TZID=UTC:20230110T070000
DTEND;TZID=UTC:20230110T123000
DTSTAMP:20260425T133954
CREATED:20221130T091956Z
LAST-MODIFIED:20221130T091956Z
UID:3858-1673334000-1673353800@nyasainternational.academy
SUMMARY:First day of term - All students in school
DESCRIPTION:
URL:https://nyasainternational.academy/event/first-day-of-term-all-students-in-school/
END:VEVENT
BEGIN:VEVENT
DTSTART;TZID=UTC:20221208T073000
DTEND;TZID=UTC:20221208T123000
DTSTAMP:20260425T133954
CREATED:20220916T071827Z
LAST-MODIFIED:20221101T140110Z
UID:3480-1670484600-1670502600@nyasainternational.academy
SUMMARY:Last day of term - Interhouse Football
DESCRIPTION:
URL:https://nyasainternational.academy/event/last-day-of-term-interhouse-football/
END:VEVENT
BEGIN:VEVENT
DTSTART;TZID=UTC:20221202T181500
DTEND;TZID=UTC:20221202T210000
DTSTAMP:20260425T133954
CREATED:20221101T130532Z
LAST-MODIFIED:20221130T092213Z
UID:3621-1670004900-1670014800@nyasainternational.academy
SUMMARY:Concert - Global Festivals - Evening Event
DESCRIPTION:
URL:https://nyasainternational.academy/event/concert-2/
END:VEVENT
BEGIN:VEVENT
DTSTART;TZID=UTC:20221201T070000
DTEND;TZID=UTC:20221201T123000
DTSTAMP:20260425T133954
CREATED:20220916T071720Z
LAST-MODIFIED:20221130T091319Z
UID:3478-1669878000-1669897800@nyasainternational.academy
SUMMARY:Concert - Dress Rehearsal
DESCRIPTION:
URL:https://nyasainternational.academy/event/concert/
END:VEVENT
END:VCALENDAR