BEGIN:VCALENDAR
VERSION:2.0
PRODID:-//NYASA INTERNATIONAL ACADEMY - ECPv6.15.20//NONSGML v1.0//EN
CALSCALE:GREGORIAN
METHOD:PUBLISH
X-WR-CALNAME:NYASA INTERNATIONAL ACADEMY
X-ORIGINAL-URL:https://nyasainternational.academy
X-WR-CALDESC:Events for NYASA INTERNATIONAL ACADEMY
REFRESH-INTERVAL;VALUE=DURATION:PT1H
X-Robots-Tag:noindex
X-PUBLISHED-TTL:PT1H
BEGIN:VTIMEZONE
TZID:UTC
BEGIN:STANDARD
TZOFFSETFROM:+0000
TZOFFSETTO:+0000
TZNAME:UTC
DTSTART:20230101T000000
END:STANDARD
END:VTIMEZONE
BEGIN:VEVENT
DTSTART;TZID=UTC:20240502T070000
DTEND;TZID=UTC:20240502T123000
DTSTAMP:20260425T151514
CREATED:20240412T200803Z
LAST-MODIFIED:20240412T200803Z
UID:5884-1714633200-1714653000@nyasainternational.academy
SUMMARY:IGCSE Maths Core & Extended P22 & P12
DESCRIPTION:
URL:https://nyasainternational.academy/event/igcse-maths-core-extended-p22-p12/
END:VEVENT
BEGIN:VEVENT
DTSTART;VALUE=DATE:20240501
DTEND;VALUE=DATE:20240502
DTSTAMP:20260425T151514
CREATED:20240412T195121Z
LAST-MODIFIED:20240412T195121Z
UID:5873-1714521600-1714607999@nyasainternational.academy
SUMMARY:Labour Day (Public Holiday)
DESCRIPTION:
URL:https://nyasainternational.academy/event/labour-day-public-holiday-2/
END:VEVENT
BEGIN:VEVENT
DTSTART;TZID=UTC:20240430T080000
DTEND;TZID=UTC:20240430T123000
DTSTAMP:20260425T151514
CREATED:20240412T195613Z
LAST-MODIFIED:20240412T195613Z
UID:5882-1714464000-1714480200@nyasainternational.academy
SUMMARY:Art & Design coursework + GP individual report
DESCRIPTION:
URL:https://nyasainternational.academy/event/art-design-coursework-gp-individual-report/
END:VEVENT
BEGIN:VEVENT
DTSTART;TZID=UTC:20240429T123000
DTEND;TZID=UTC:20240429T160000
DTSTAMP:20260425T151514
CREATED:20240412T195352Z
LAST-MODIFIED:20240412T195438Z
UID:5877-1714393800-1714406400@nyasainternational.academy
SUMMARY:IGCSE Chemistry Core & Extended Theory 31 & 41
DESCRIPTION:
URL:https://nyasainternational.academy/event/igcse-core-extended-theory-31-41/
END:VEVENT
BEGIN:VEVENT
DTSTART;TZID=UTC:20240429T080000
DTEND;TZID=UTC:20240429T120000
DTSTAMP:20260425T151514
CREATED:20240412T195229Z
LAST-MODIFIED:20240412T195229Z
UID:5875-1714377600-1714392000@nyasainternational.academy
SUMMARY:IGCSE ARABIC ORALS
DESCRIPTION:
URL:https://nyasainternational.academy/event/igcse-arabic-orals/
END:VEVENT
BEGIN:VEVENT
DTSTART;TZID=UTC:20240429T070000
DTEND;TZID=UTC:20240429T073000
DTSTAMP:20260425T151514
CREATED:20240412T202449Z
LAST-MODIFIED:20240412T202449Z
UID:5888-1714374000-1714375800@nyasainternational.academy
SUMMARY:Yr 10 Assembly
DESCRIPTION:
URL:https://nyasainternational.academy/event/yr-10-assembly/
END:VEVENT
BEGIN:VEVENT
DTSTART;TZID=UTC:20240425T070000
DTEND;TZID=UTC:20240430T170000
DTSTAMP:20260425T151514
CREATED:20240412T195004Z
LAST-MODIFIED:20240412T195004Z
UID:5871-1714028400-1714496400@nyasainternational.academy
SUMMARY:Yr 6 & Yr 9 Day off
DESCRIPTION:
URL:https://nyasainternational.academy/event/yr-6-yr-9-day-off/
END:VEVENT
BEGIN:VEVENT
DTSTART;TZID=UTC:20240422T073000
DTEND;TZID=UTC:20240424T123000
DTSTAMP:20260425T151514
CREATED:20240410T081348Z
LAST-MODIFIED:20240410T081348Z
UID:5865-1713771000-1713961800@nyasainternational.academy
SUMMARY:Yr 9 & Yr 6  checkpoint exams
DESCRIPTION:
URL:https://nyasainternational.academy/event/yr-9-yr-6-checkpoint-exams/
END:VEVENT
BEGIN:VEVENT
DTSTART;TZID=UTC:20240422T070000
DTEND;TZID=UTC:20240422T073000
DTSTAMP:20260425T151514
CREATED:20240410T081608Z
LAST-MODIFIED:20240410T081608Z
UID:5867-1713769200-1713771000@nyasainternational.academy
SUMMARY:Earth Day - NISA Head Teacher Assembly
DESCRIPTION:
URL:https://nyasainternational.academy/event/earth-day-nisa-head-teacher-assembly/
END:VEVENT
BEGIN:VEVENT
DTSTART;TZID=UTC:20240422T010000
DTEND;TZID=UTC:20240422T150000
DTSTAMP:20260425T151514
CREATED:20240412T203859Z
LAST-MODIFIED:20240412T203859Z
UID:5908-1713747600-1713798000@nyasainternational.academy
SUMMARY:First day of Clubs - NJA & NISA
DESCRIPTION:
URL:https://nyasainternational.academy/event/first-day-of-clubs-nja-nisa/
END:VEVENT
BEGIN:VEVENT
DTSTART;TZID=UTC:20240418T080000
DTEND;TZID=UTC:20240418T233000
DTSTAMP:20260425T151514
CREATED:20240410T080248Z
LAST-MODIFIED:20240410T080248Z
UID:5863-1713427200-1713483000@nyasainternational.academy
SUMMARY:IGCSE ICT PRACTICAL 32
DESCRIPTION:
URL:https://nyasainternational.academy/event/igcse-ict-practical-32/
END:VEVENT
BEGIN:VEVENT
DTSTART;TZID=UTC:20240417T180000
DTEND;TZID=UTC:20240417T200000
DTSTAMP:20260425T151514
CREATED:20240410T075729Z
LAST-MODIFIED:20240410T075743Z
UID:5860-1713376800-1713384000@nyasainternational.academy
SUMMARY:Parents Workshop
DESCRIPTION:
URL:https://nyasainternational.academy/event/parents-wokshop/
LOCATION:Nyasa International Academy\, P.O. Box E762 Post Dot Net Blantyre\, Blantyre\, Malawi
END:VEVENT
BEGIN:VEVENT
DTSTART;TZID=UTC:20240416T070000
DTEND;TZID=UTC:20240416T123000
DTSTAMP:20260425T151514
CREATED:20240410T075436Z
LAST-MODIFIED:20240410T075436Z
UID:5858-1713250800-1713270600@nyasainternational.academy
SUMMARY:First day of term
DESCRIPTION:
URL:https://nyasainternational.academy/event/first-day-of-term-6/
END:VEVENT
BEGIN:VEVENT
DTSTART;TZID=UTC:20240415T070000
DTEND;TZID=UTC:20240415T123000
DTSTAMP:20260425T151514
CREATED:20240410T070050Z
LAST-MODIFIED:20240410T070050Z
UID:5836-1713164400-1713184200@nyasainternational.academy
SUMMARY:First day of term for Yr 11 & Yr 9 Students
DESCRIPTION:
URL:https://nyasainternational.academy/event/first-day-of-term-for-yr-11-yr-9-students/
END:VEVENT
BEGIN:VEVENT
DTSTART;TZID=UTC:20240328T070000
DTEND;TZID=UTC:20240328T123000
DTSTAMP:20260425T151514
CREATED:20240318T114150Z
LAST-MODIFIED:20240318T114150Z
UID:4783-1711609200-1711629000@nyasainternational.academy
SUMMARY:Mental maths Quiz
DESCRIPTION:
URL:https://nyasainternational.academy/event/mental-maths-quiz/
END:VEVENT
BEGIN:VEVENT
DTSTART;TZID=UTC:20240328T070000
DTEND;TZID=UTC:20240328T120000
DTSTAMP:20260425T151514
CREATED:20231205T085708Z
LAST-MODIFIED:20231205T085708Z
UID:4669-1711609200-1711627200@nyasainternational.academy
SUMMARY:Year 11 Excursion- Secondary
DESCRIPTION:
URL:https://nyasainternational.academy/event/year-11-excursion-secondary/
END:VEVENT
BEGIN:VEVENT
DTSTART;TZID=UTC:20240327T070000
DTEND;TZID=UTC:20240327T113000
DTSTAMP:20260425T151514
CREATED:20231205T085517Z
LAST-MODIFIED:20231205T085517Z
UID:4667-1711522800-1711539000@nyasainternational.academy
SUMMARY:Last Day of Term: Movie Day- Primary and Secondary
DESCRIPTION:
URL:https://nyasainternational.academy/event/last-day-of-term-movie-day-primary-and-secondary/
END:VEVENT
BEGIN:VEVENT
DTSTART;TZID=UTC:20240325T070000
DTEND;TZID=UTC:20240325T123000
DTSTAMP:20260425T151514
CREATED:20231205T083852Z
LAST-MODIFIED:20231205T083852Z
UID:4665-1711350000-1711369800@nyasainternational.academy
SUMMARY:PTM Rec- Year: Primary
DESCRIPTION:
URL:https://nyasainternational.academy/event/ptm-rec-year-primary/
END:VEVENT
BEGIN:VEVENT
DTSTART;TZID=UTC:20240325T070000
DTEND;TZID=UTC:20240325T073000
DTSTAMP:20260425T151514
CREATED:20231205T083743Z
LAST-MODIFIED:20231205T083743Z
UID:4663-1711350000-1711351800@nyasainternational.academy
SUMMARY:Year 7 Assembly
DESCRIPTION:
URL:https://nyasainternational.academy/event/year-7-assembly-2/
END:VEVENT
BEGIN:VEVENT
DTSTART;TZID=UTC:20240320T070000
DTEND;TZID=UTC:20240320T123000
DTSTAMP:20260425T151514
CREATED:20231205T083625Z
LAST-MODIFIED:20231205T083625Z
UID:4661-1710918000-1710937800@nyasainternational.academy
SUMMARY:French Language Day and International Day of Happiness
DESCRIPTION:
URL:https://nyasainternational.academy/event/french-language-day-and-international-day-of-happiness/
END:VEVENT
BEGIN:VEVENT
DTSTART;TZID=UTC:20240318T130000
DTEND;TZID=UTC:20240318T150000
DTSTAMP:20260425T151514
CREATED:20231205T083235Z
LAST-MODIFIED:20231205T083316Z
UID:4657-1710766800-1710774000@nyasainternational.academy
SUMMARY:Last day of Clubs- Primary and Secondary
DESCRIPTION:
URL:https://nyasainternational.academy/event/last-day-of-clubs-primary-and-secondary/
END:VEVENT
BEGIN:VEVENT
DTSTART;TZID=UTC:20240318T070000
DTEND;TZID=UTC:20240318T073000
DTSTAMP:20260425T151514
CREATED:20231205T083507Z
LAST-MODIFIED:20231205T083507Z
UID:4659-1710745200-1710747000@nyasainternational.academy
SUMMARY:French Assembly- Seconday
DESCRIPTION:
URL:https://nyasainternational.academy/event/french-assembly-seconday/
END:VEVENT
BEGIN:VEVENT
DTSTART;TZID=UTC:20240313T070000
DTEND;TZID=UTC:20240313T073000
DTSTAMP:20260425T151514
CREATED:20231205T083128Z
LAST-MODIFIED:20231205T083128Z
UID:4655-1710313200-1710315000@nyasainternational.academy
SUMMARY:Reception Assembly
DESCRIPTION:
URL:https://nyasainternational.academy/event/reception-assembly-5/
END:VEVENT
BEGIN:VEVENT
DTSTART;TZID=UTC:20240312T100000
DTEND;TZID=UTC:20240312T113000
DTSTAMP:20260425T151514
CREATED:20231205T083023Z
LAST-MODIFIED:20231205T083023Z
UID:4653-1710237600-1710243000@nyasainternational.academy
SUMMARY:Watch Me Work: Stars- Primary
DESCRIPTION:
URL:https://nyasainternational.academy/event/watch-me-work-stars-primary/
END:VEVENT
BEGIN:VEVENT
DTSTART;TZID=UTC:20240311T070000
DTEND;TZID=UTC:20240315T123000
DTSTAMP:20260425T151514
CREATED:20231205T082852Z
LAST-MODIFIED:20231205T082852Z
UID:4651-1710140400-1710505800@nyasainternational.academy
SUMMARY:Year 7\,8 and 10 End of Term Assessments continue
DESCRIPTION:
URL:https://nyasainternational.academy/event/year-78-and-10-end-of-term-assessments-continue/
END:VEVENT
BEGIN:VEVENT
DTSTART;TZID=UTC:20240311T070000
DTEND;TZID=UTC:20240315T123000
DTSTAMP:20260425T151514
CREATED:20231205T082742Z
LAST-MODIFIED:20231205T082742Z
UID:4649-1710140400-1710505800@nyasainternational.academy
SUMMARY:Second Mock Examinations- Year 9 and 11
DESCRIPTION:
URL:https://nyasainternational.academy/event/second-mock-examinations-year-9-and-11/
END:VEVENT
BEGIN:VEVENT
DTSTART;TZID=UTC:20240311T070000
DTEND;TZID=UTC:20240315T123000
DTSTAMP:20260425T151514
CREATED:20231205T082633Z
LAST-MODIFIED:20231205T082633Z
UID:4647-1710140400-1710505800@nyasainternational.academy
SUMMARY:Mid Year Assessments begin- Primary
DESCRIPTION:
URL:https://nyasainternational.academy/event/mid-year-assessments-begin-primary/
END:VEVENT
BEGIN:VEVENT
DTSTART;TZID=UTC:20240306T070000
DTEND;TZID=UTC:20240306T073000
DTSTAMP:20260425T151514
CREATED:20231205T082101Z
LAST-MODIFIED:20231205T082227Z
UID:4643-1709708400-1709710200@nyasainternational.academy
SUMMARY:Year 5 Assembly
DESCRIPTION:
URL:https://nyasainternational.academy/event/year-5-assembly-3/
END:VEVENT
BEGIN:VEVENT
DTSTART;TZID=UTC:20240305T070000
DTEND;TZID=UTC:20240308T123000
DTSTAMP:20260425T151514
CREATED:20231205T081923Z
LAST-MODIFIED:20231205T081923Z
UID:4641-1709622000-1709901000@nyasainternational.academy
SUMMARY:Year 7\, 8 and 10 End of Term Examinations begin- Secondary
DESCRIPTION:
URL:https://nyasainternational.academy/event/year-7-8-and-10-end-of-term-examinations-begin-secondary/
END:VEVENT
BEGIN:VEVENT
DTSTART;TZID=UTC:20240305T070000
DTEND;TZID=UTC:20240308T123000
DTSTAMP:20260425T151514
CREATED:20231205T081619Z
LAST-MODIFIED:20231205T081619Z
UID:4639-1709622000-1709901000@nyasainternational.academy
SUMMARY:Oral and Practical Mock Examinations for year 11 begin
DESCRIPTION:
URL:https://nyasainternational.academy/event/oral-and-practical-mock-examinations-for-year-11-begin/
END:VEVENT
END:VCALENDAR