BEGIN:VCALENDAR
VERSION:2.0
PRODID:-//NYASA INTERNATIONAL ACADEMY - ECPv6.15.20//NONSGML v1.0//EN
CALSCALE:GREGORIAN
METHOD:PUBLISH
X-WR-CALNAME:NYASA INTERNATIONAL ACADEMY
X-ORIGINAL-URL:https://nyasainternational.academy
X-WR-CALDESC:Events for NYASA INTERNATIONAL ACADEMY
REFRESH-INTERVAL;VALUE=DURATION:PT1H
X-Robots-Tag:noindex
X-PUBLISHED-TTL:PT1H
BEGIN:VTIMEZONE
TZID:UTC
BEGIN:STANDARD
TZOFFSETFROM:+0000
TZOFFSETTO:+0000
TZNAME:UTC
DTSTART:20170101T000000
END:STANDARD
END:VTIMEZONE
BEGIN:VEVENT
DTSTART;TZID=UTC:20180322T103000
DTEND;TZID=UTC:20180322T113000
DTSTAMP:20260425T151644
CREATED:20180409T111659Z
LAST-MODIFIED:20180409T111722Z
UID:453-1521714600-1521718200@nyasainternational.academy
SUMMARY:Watch-Me-Work for Stars Class
DESCRIPTION:
URL:https://nyasainternational.academy/event/watch-me-work-for-stars-class/
END:VEVENT
BEGIN:VEVENT
DTSTART;TZID=UTC:20180320T100000
DTEND;TZID=UTC:20180320T120000
DTSTAMP:20260425T151644
CREATED:20180409T111835Z
LAST-MODIFIED:20180409T111956Z
UID:455-1521540000-1521547200@nyasainternational.academy
SUMMARY:Upper School Swimming Gala
DESCRIPTION:
URL:https://nyasainternational.academy/event/upper-school-swimming-gala/
END:VEVENT
BEGIN:VEVENT
DTSTART;VALUE=DATE:20180315
DTEND;VALUE=DATE:20180316
DTSTAMP:20260425T151644
CREATED:20180409T111026Z
LAST-MODIFIED:20180409T111220Z
UID:449-1521072000-1521158399@nyasainternational.academy
SUMMARY:Maths Olympiad (SAINTS)
DESCRIPTION:
URL:https://nyasainternational.academy/event/lower-school-swimming-gala/
END:VEVENT
BEGIN:VEVENT
DTSTART;TZID=UTC:20180307T110000
DTEND;TZID=UTC:20180307T120000
DTSTAMP:20260425T151644
CREATED:20180409T110749Z
LAST-MODIFIED:20180409T110817Z
UID:447-1520420400-1520424000@nyasainternational.academy
SUMMARY:Mastermind Competition Finals
DESCRIPTION:
URL:https://nyasainternational.academy/event/mastermind-competition-finals/
END:VEVENT
BEGIN:VEVENT
DTSTART;VALUE=DATE:20180305
DTEND;VALUE=DATE:20180306
DTSTAMP:20260425T151644
CREATED:20180409T110506Z
LAST-MODIFIED:20180409T110608Z
UID:445-1520208000-1520294399@nyasainternational.academy
SUMMARY:Martyrs' Day - Public Holiday
DESCRIPTION:
URL:https://nyasainternational.academy/event/martyrs-day-public-holiday/
END:VEVENT
BEGIN:VEVENT
DTSTART;TZID=UTC:20180227T071000
DTEND;TZID=UTC:20180227T130000
DTSTAMP:20260425T151644
CREATED:20180409T101018Z
LAST-MODIFIED:20180409T101536Z
UID:430-1519715400-1519736400@nyasainternational.academy
SUMMARY:NJA Founder's Day
DESCRIPTION:
URL:https://nyasainternational.academy/event/clubs-start/
END:VEVENT
BEGIN:VEVENT
DTSTART;VALUE=DATE:20180219
DTEND;VALUE=DATE:20180224
DTSTAMP:20260425T151644
CREATED:20180109T140420Z
LAST-MODIFIED:20180114T095452Z
UID:346-1518998400-1519430399@nyasainternational.academy
SUMMARY:Half-term holiday
DESCRIPTION:Monday 19th February to Friday\, 23rd February 2018 – half term
URL:https://nyasainternational.academy/event/half-term/
END:VEVENT
BEGIN:VEVENT
DTSTART;VALUE=DATE:20180219
DTEND;VALUE=DATE:20180224
DTSTAMP:20260425T151644
CREATED:20180409T110034Z
LAST-MODIFIED:20180409T110045Z
UID:443-1518998400-1519430399@nyasainternational.academy
SUMMARY:Half Term Break
DESCRIPTION:
URL:https://nyasainternational.academy/event/half-term-break/
END:VEVENT
BEGIN:VEVENT
DTSTART;TZID=UTC:20180202T071000
DTEND;TZID=UTC:20180202T074500
DTSTAMP:20260425T151644
CREATED:20180409T102344Z
LAST-MODIFIED:20180409T105248Z
UID:436-1517555400-1517557500@nyasainternational.academy
SUMMARY:Book Week Assembly
DESCRIPTION:
URL:https://nyasainternational.academy/event/book-week/
END:VEVENT
BEGIN:VEVENT
DTSTART;TZID=UTC:20180129T071000
DTEND;TZID=UTC:20180202T130000
DTSTAMP:20260425T151644
CREATED:20180409T105827Z
LAST-MODIFIED:20180409T105914Z
UID:441-1517209800-1517576400@nyasainternational.academy
SUMMARY:Book Week
DESCRIPTION:
URL:https://nyasainternational.academy/event/book-week-2/
END:VEVENT
BEGIN:VEVENT
DTSTART;TZID=UTC:20180122T130000
DTEND;TZID=UTC:20180122T150000
DTSTAMP:20260425T151644
CREATED:20180409T102044Z
LAST-MODIFIED:20180409T102058Z
UID:434-1516626000-1516633200@nyasainternational.academy
SUMMARY:Clubs Start
DESCRIPTION:
URL:https://nyasainternational.academy/event/clubs-start-2/
END:VEVENT
BEGIN:VEVENT
DTSTART;VALUE=DATE:20180115
DTEND;VALUE=DATE:20180116
DTSTAMP:20260425T151644
CREATED:20180109T000056Z
LAST-MODIFIED:20180109T141041Z
UID:340-1515974400-1516060799@nyasainternational.academy
SUMMARY:John Chilembwe Day
DESCRIPTION:Monday\, 15th January 2018 – John Chilembwe Day
URL:https://nyasainternational.academy/event/340/
END:VEVENT
BEGIN:VEVENT
DTSTART;TZID=UTC:20180109T071000
DTEND;TZID=UTC:20180109T071000
DTSTAMP:20260425T151644
CREATED:20171227T143503Z
LAST-MODIFIED:20171229T090445Z
UID:317-1515481800-1515481800@nyasainternational.academy
SUMMARY:SCHOOL OPENING
DESCRIPTION:Tuesday\, 09th January 2018 – First day of term
URL:https://nyasainternational.academy/event/school-opening/
END:VEVENT
END:VCALENDAR