BEGIN:VCALENDAR
VERSION:2.0
PRODID:-//NYASA INTERNATIONAL ACADEMY - ECPv6.15.20//NONSGML v1.0//EN
CALSCALE:GREGORIAN
METHOD:PUBLISH
X-WR-CALNAME:NYASA INTERNATIONAL ACADEMY
X-ORIGINAL-URL:https://nyasainternational.academy
X-WR-CALDESC:Events for NYASA INTERNATIONAL ACADEMY
REFRESH-INTERVAL;VALUE=DURATION:PT1H
X-Robots-Tag:noindex
X-PUBLISHED-TTL:PT1H
BEGIN:VTIMEZONE
TZID:UTC
BEGIN:STANDARD
TZOFFSETFROM:+0000
TZOFFSETTO:+0000
TZNAME:UTC
DTSTART:20170101T000000
END:STANDARD
END:VTIMEZONE
BEGIN:VTIMEZONE
TZID:Africa/Lusaka
BEGIN:STANDARD
TZOFFSETFROM:+0200
TZOFFSETTO:+0200
TZNAME:CAT
DTSTART:20170101T000000
END:STANDARD
END:VTIMEZONE
BEGIN:VEVENT
DTSTART;TZID=UTC:20211008T110000
DTEND;TZID=UTC:20211008T114500
DTSTAMP:20260425T154505
CREATED:20210906T105403Z
LAST-MODIFIED:20211004T072518Z
UID:2034-1633690800-1633693500@nyasainternational.academy
SUMMARY:Mothers' Day - Secondary
DESCRIPTION:Mothers’ Day – Famous Mum
URL:https://nyasainternational.academy/event/mothers-day-secondary/
END:VEVENT
BEGIN:VEVENT
DTSTART;TZID=UTC:20211006T103000
DTEND;TZID=UTC:20211006T120000
DTSTAMP:20260425T154505
CREATED:20210906T105044Z
LAST-MODIFIED:20211004T114917Z
UID:2031-1633516200-1633521600@nyasainternational.academy
SUMMARY:Grandparents Day - Primary
DESCRIPTION:Grandparents Day- Only for primary students
URL:https://nyasainternational.academy/event/grandparents-day/
END:VEVENT
BEGIN:VEVENT
DTSTART;TZID=UTC:20211005T080000
DTEND;TZID=UTC:20211005T160000
DTSTAMP:20260425T154505
CREATED:20210906T104804Z
LAST-MODIFIED:20210906T104804Z
UID:2029-1633420800-1633449600@nyasainternational.academy
SUMMARY:World Teachers Day
DESCRIPTION:World Teachers Day
URL:https://nyasainternational.academy/event/world-teachers-day/
END:VEVENT
BEGIN:VEVENT
DTSTART;TZID=UTC:20211001T094500
DTEND;TZID=UTC:20211001T100000
DTSTAMP:20260425T154505
CREATED:20210906T104519Z
LAST-MODIFIED:20210906T104519Z
UID:2027-1633081500-1633082400@nyasainternational.academy
SUMMARY:Year 7 Assembly
DESCRIPTION:Year 7 Assembly
URL:https://nyasainternational.academy/event/year-7-assembly/
END:VEVENT
BEGIN:VEVENT
DTSTART;VALUE=DATE:20211001
DTEND;VALUE=DATE:20211101
DTSTAMP:20260425T154505
CREATED:20211021T093149Z
LAST-MODIFIED:20211021T093158Z
UID:2211-1633046400-1635724799@nyasainternational.academy
SUMMARY:Cyber Security Awareness Month
DESCRIPTION:
URL:https://nyasainternational.academy/event/cyber-security-awareness-month/
END:VEVENT
BEGIN:VEVENT
DTSTART;TZID=UTC:20210929T070000
DTEND;TZID=UTC:20210929T073000
DTSTAMP:20260425T154505
CREATED:20210906T104111Z
LAST-MODIFIED:20210906T104111Z
UID:2025-1632898800-1632900600@nyasainternational.academy
SUMMARY:Reception & Stars Assembly
DESCRIPTION:Reception & Stars Assembly
URL:https://nyasainternational.academy/event/reception-stars-assembly/
END:VEVENT
BEGIN:VEVENT
DTSTART;TZID=UTC:20210924T065500
DTEND;TZID=UTC:20210924T193000
DTSTAMP:20260425T154505
CREATED:20210906T103723Z
LAST-MODIFIED:20210906T103723Z
UID:2023-1632466500-1632511800@nyasainternational.academy
SUMMARY:Year 8 Assembly
DESCRIPTION:Year 8 Assembly
URL:https://nyasainternational.academy/event/year-8-assembly/
END:VEVENT
BEGIN:VEVENT
DTSTART;TZID=UTC:20210922T070000
DTEND;TZID=UTC:20210922T073000
DTSTAMP:20260425T154505
CREATED:20210906T103403Z
LAST-MODIFIED:20210906T103403Z
UID:2021-1632294000-1632295800@nyasainternational.academy
SUMMARY:Year 1 Assembly
DESCRIPTION:Year 1 Assembly
URL:https://nyasainternational.academy/event/year-1-assembly/
END:VEVENT
BEGIN:VEVENT
DTSTART;TZID=UTC:20210921T080000
DTEND;TZID=UTC:20210921T170000
DTSTAMP:20260425T154505
CREATED:20210906T102819Z
LAST-MODIFIED:20210906T103123Z
UID:2015-1632211200-1632243600@nyasainternational.academy
SUMMARY:World Peace Day
DESCRIPTION:World Peace Day
URL:https://nyasainternational.academy/event/world-peace-day/
END:VEVENT
BEGIN:VEVENT
DTSTART;TZID=UTC:20210917T080000
DTEND;TZID=UTC:20210917T170000
DTSTAMP:20260425T154505
CREATED:20210906T101423Z
LAST-MODIFIED:20210906T101423Z
UID:2013-1631865600-1631898000@nyasainternational.academy
SUMMARY:Year 9 Assembly
DESCRIPTION:Year 9 Assembly
URL:https://nyasainternational.academy/event/year-9-assembly/
END:VEVENT
BEGIN:VEVENT
DTSTART;VALUE=DATE:20210916
DTEND;VALUE=DATE:20210917
DTSTAMP:20260425T154505
CREATED:20210906T095007Z
LAST-MODIFIED:20210906T095007Z
UID:2011-1631750400-1631836799@nyasainternational.academy
SUMMARY:Orientation Day - Year 7 to Year 9
DESCRIPTION:Orientation Day – Year 7 to Year 9
URL:https://nyasainternational.academy/event/orientation-day-year-7-to-year-9/
END:VEVENT
BEGIN:VEVENT
DTSTART;VALUE=DATE:20210915
DTEND;VALUE=DATE:20210916
DTSTAMP:20260425T154505
CREATED:20210906T094532Z
LAST-MODIFIED:20210906T094532Z
UID:2008-1631664000-1631750399@nyasainternational.academy
SUMMARY:Orientation Day - Year 3 to Year 6 & Year 2 Assembly
DESCRIPTION:Orientation Day – Year 3 to Year 6 \nYear 2 Assembly
URL:https://nyasainternational.academy/event/orientation-day-year-3-to-year-6-year-2-assembly/
END:VEVENT
BEGIN:VEVENT
DTSTART;VALUE=DATE:20210914
DTEND;VALUE=DATE:20210915
DTSTAMP:20260425T154505
CREATED:20210906T094203Z
LAST-MODIFIED:20210906T103114Z
UID:2005-1631577600-1631663999@nyasainternational.academy
SUMMARY:Orientation Day - Sunshine to Year 2
DESCRIPTION:Orientation Day – Sunshine to Year 2
URL:https://nyasainternational.academy/event/orientation-day-sunshine-to-year-2/
END:VEVENT
BEGIN:VEVENT
DTSTART;VALUE=DATE:20210910
DTEND;VALUE=DATE:20210911
DTSTAMP:20260425T154505
CREATED:20210906T091313Z
LAST-MODIFIED:20210906T091816Z
UID:1998-1631232000-1631318399@nyasainternational.academy
SUMMARY:HT Assembly - Secondary
DESCRIPTION:
URL:https://nyasainternational.academy/event/ht-assembly/
END:VEVENT
BEGIN:VEVENT
DTSTART;VALUE=DATE:20210908
DTEND;VALUE=DATE:20210909
DTSTAMP:20260425T154505
CREATED:20210906T092059Z
LAST-MODIFIED:20210906T102954Z
UID:2002-1631059200-1631145599@nyasainternational.academy
SUMMARY:HT Assembly - Primary
DESCRIPTION:Head Teacher Assembly – Primary
URL:https://nyasainternational.academy/event/ht-assembly-primary/
LOCATION:Nyasa International Academy\, P.O. Box E762 Post Dot Net Blantyre\, Blantyre\, Malawi
END:VEVENT
BEGIN:VEVENT
DTSTART;VALUE=DATE:20210907
DTEND;VALUE=DATE:20210908
DTSTAMP:20260425T154505
CREATED:20210906T085030Z
LAST-MODIFIED:20210906T102910Z
UID:1990-1630972800-1631059199@nyasainternational.academy
SUMMARY:First day of term
DESCRIPTION:First day of Term
URL:https://nyasainternational.academy/event/first-day-of-term/
LOCATION:Nyasa International Academy\, P.O. Box E762 Post Dot Net Blantyre\, Blantyre\, Malawi
END:VEVENT
BEGIN:VEVENT
DTSTART;TZID=UTC:20180704T000000
DTEND;TZID=UTC:20180704T000000
DTSTAMP:20260425T154505
CREATED:20180430T091715Z
LAST-MODIFIED:20180430T091715Z
UID:566-1530662400-1530662400@nyasainternational.academy
SUMMARY:End of Term
DESCRIPTION:
URL:https://nyasainternational.academy/event/end-of-term/
END:VEVENT
BEGIN:VEVENT
DTSTART;TZID=UTC:20180703T000000
DTEND;TZID=UTC:20180703T000000
DTSTAMP:20260425T154505
CREATED:20180430T090517Z
LAST-MODIFIED:20180430T090529Z
UID:564-1530576000-1530576000@nyasainternational.academy
SUMMARY:Sports Day - Upper School
DESCRIPTION:
URL:https://nyasainternational.academy/event/sports-day-upper-school/
END:VEVENT
BEGIN:VEVENT
DTSTART;TZID=UTC:20180702T000000
DTEND;TZID=UTC:20180702T000000
DTSTAMP:20260425T154505
CREATED:20180430T090119Z
LAST-MODIFIED:20180430T090136Z
UID:562-1530489600-1530489600@nyasainternational.academy
SUMMARY:Moving Up Day
DESCRIPTION:
URL:https://nyasainternational.academy/event/moving-up-day/
END:VEVENT
BEGIN:VEVENT
DTSTART;TZID=UTC:20180627T000000
DTEND;TZID=UTC:20180627T000000
DTSTAMP:20260425T154505
CREATED:20180430T085451Z
LAST-MODIFIED:20180430T085534Z
UID:558-1530057600-1530057600@nyasainternational.academy
SUMMARY:Graduation Day and Prize Giving
DESCRIPTION:
URL:https://nyasainternational.academy/event/graduation-day-and-prize-giving/
END:VEVENT
BEGIN:VEVENT
DTSTART;VALUE=DATE:20180626
DTEND;VALUE=DATE:20180627
DTSTAMP:20260425T154505
CREATED:20180430T085752Z
LAST-MODIFIED:20180531T115717Z
UID:560-1529971200-1530057599@nyasainternational.academy
SUMMARY:Sports Day - Lower School
DESCRIPTION:
URL:https://nyasainternational.academy/event/sports-day-lower-school/
END:VEVENT
BEGIN:VEVENT
DTSTART;TZID=UTC:20180613T071500
DTEND;TZID=UTC:20180613T074500
DTSTAMP:20260425T154505
CREATED:20180430T082756Z
LAST-MODIFIED:20180430T083423Z
UID:552-1528874100-1528875900@nyasainternational.academy
SUMMARY:Sunshine/Stars Assembly
DESCRIPTION:
URL:https://nyasainternational.academy/event/sunshine-stars-assembly/
END:VEVENT
BEGIN:VEVENT
DTSTART;TZID=UTC:20180606T071500
DTEND;TZID=UTC:20180606T074500
DTSTAMP:20260425T154505
CREATED:20180426T122050Z
LAST-MODIFIED:20180426T122110Z
UID:549-1528269300-1528271100@nyasainternational.academy
SUMMARY:Reception Assembly
DESCRIPTION:
URL:https://nyasainternational.academy/event/reception-assembly/
END:VEVENT
BEGIN:VEVENT
DTSTART;TZID=UTC:20180605T000000
DTEND;TZID=UTC:20180605T000000
DTSTAMP:20260425T154505
CREATED:20180426T121727Z
LAST-MODIFIED:20180426T121741Z
UID:546-1528156800-1528156800@nyasainternational.academy
SUMMARY:Environment Day - Closing Date: Pleas for Trees Competition
DESCRIPTION:
URL:https://nyasainternational.academy/event/environment-day-closing-date-pleas-for-trees-competition/
END:VEVENT
BEGIN:VEVENT
DTSTART;TZID=UTC:20180530T071000
DTEND;TZID=UTC:20180530T074500
DTSTAMP:20260425T154505
CREATED:20180426T120820Z
LAST-MODIFIED:20180531T115105Z
UID:542-1527664200-1527666300@nyasainternational.academy
SUMMARY:Assembly - Year 5 and 6 Public Speaking Finals
DESCRIPTION:
URL:https://nyasainternational.academy/event/assembly-year-5-public-speaking-finals/
END:VEVENT
BEGIN:VEVENT
DTSTART;TZID=Africa/Lusaka:20180528T000000
DTEND;TZID=Africa/Lusaka:20180529T000000
DTSTAMP:20260425T154505
CREATED:20180426T121146Z
LAST-MODIFIED:20180515T101512Z
UID:544-1527465600-1527552000@nyasainternational.academy
SUMMARY:Half Term Break
DESCRIPTION:
URL:https://nyasainternational.academy/event/half-term-break-2/
END:VEVENT
BEGIN:VEVENT
DTSTART;TZID=UTC:20180516T071500
DTEND;TZID=UTC:20180516T074500
DTSTAMP:20260425T154505
CREATED:20180423T120630Z
LAST-MODIFIED:20180504T084127Z
UID:517-1526454900-1526456700@nyasainternational.academy
SUMMARY:Year 6 Assembly
DESCRIPTION:
URL:https://nyasainternational.academy/event/year-6-assembly/
END:VEVENT
BEGIN:VEVENT
DTSTART;VALUE=DATE:20180514
DTEND;VALUE=DATE:20180515
DTSTAMP:20260425T154505
CREATED:20180423T121350Z
LAST-MODIFIED:20180423T121452Z
UID:519-1526256000-1526342399@nyasainternational.academy
SUMMARY:Public Holiday - Kamuzu Day
DESCRIPTION:
URL:https://nyasainternational.academy/event/public-holiday-kamuzu-day/
END:VEVENT
BEGIN:VEVENT
DTSTART;TZID=UTC:20180511T000000
DTEND;TZID=UTC:20180511T000000
DTSTAMP:20260425T154505
CREATED:20180426T114947Z
LAST-MODIFIED:20180426T115030Z
UID:536-1525996800-1525996800@nyasainternational.academy
SUMMARY:Watch-Me-Work for Sunshine
DESCRIPTION:
URL:https://nyasainternational.academy/event/watch-me-work-for-sunshine/
END:VEVENT
BEGIN:VEVENT
DTSTART;TZID=UTC:20180509T071500
DTEND;TZID=UTC:20180509T074500
DTSTAMP:20260425T154505
CREATED:20180426T114736Z
LAST-MODIFIED:20180426T114751Z
UID:534-1525850100-1525851900@nyasainternational.academy
SUMMARY:Year 6 Assembly
DESCRIPTION:
URL:https://nyasainternational.academy/event/year-6-assembly-2/
END:VEVENT
END:VCALENDAR