BEGIN:VCALENDAR
VERSION:2.0
PRODID:-//NYASA INTERNATIONAL ACADEMY - ECPv6.15.20//NONSGML v1.0//EN
CALSCALE:GREGORIAN
METHOD:PUBLISH
X-WR-CALNAME:NYASA INTERNATIONAL ACADEMY
X-ORIGINAL-URL:https://nyasainternational.academy
X-WR-CALDESC:Events for NYASA INTERNATIONAL ACADEMY
REFRESH-INTERVAL;VALUE=DURATION:PT1H
X-Robots-Tag:noindex
X-PUBLISHED-TTL:PT1H
BEGIN:VTIMEZONE
TZID:UTC
BEGIN:STANDARD
TZOFFSETFROM:+0000
TZOFFSETTO:+0000
TZNAME:UTC
DTSTART:20250101T000000
END:STANDARD
END:VTIMEZONE
BEGIN:VEVENT
DTSTART;VALUE=DATE:20260106
DTEND;VALUE=DATE:20260107
DTSTAMP:20260425T161412
CREATED:20250601T151641Z
LAST-MODIFIED:20250601T151641Z
UID:6992-1767657600-1767743999@nyasainternational.academy
SUMMARY:First Day of Term2
DESCRIPTION:
URL:https://nyasainternational.academy/event/first-day-of-term2/
END:VEVENT
BEGIN:VEVENT
DTSTART;VALUE=DATE:20260115
DTEND;VALUE=DATE:20260116
DTSTAMP:20260425T161412
CREATED:20250601T152012Z
LAST-MODIFIED:20250601T152012Z
UID:6994-1768435200-1768521599@nyasainternational.academy
SUMMARY:John Chilembwe Day - Public Holiday
DESCRIPTION:
URL:https://nyasainternational.academy/event/john-chilembwe-day-public-holiday-2/
END:VEVENT
BEGIN:VEVENT
DTSTART;TZID=UTC:20260205T080000
DTEND;TZID=UTC:20260205T123000
DTSTAMP:20260425T161412
CREATED:20260130T070158Z
LAST-MODIFIED:20260130T070158Z
UID:7108-1770278400-1770294600@nyasainternational.academy
SUMMARY:World read aloud day (NJA & NISA)
DESCRIPTION:
URL:https://nyasainternational.academy/event/world-read-aloud-day-nja-nisa/
END:VEVENT
BEGIN:VEVENT
DTSTART;VALUE=DATE:20260216
DTEND;VALUE=DATE:20260221
DTSTAMP:20260425T161412
CREATED:20250601T152214Z
LAST-MODIFIED:20250601T152214Z
UID:6996-1771200000-1771631999@nyasainternational.academy
SUMMARY:Half Term Break
DESCRIPTION:
URL:https://nyasainternational.academy/event/half-term-break-7/
END:VEVENT
BEGIN:VEVENT
DTSTART;VALUE=DATE:20260303
DTEND;VALUE=DATE:20260304
DTSTAMP:20260425T161412
CREATED:20250601T152328Z
LAST-MODIFIED:20250601T152328Z
UID:6998-1772496000-1772582399@nyasainternational.academy
SUMMARY:Martyr's Day - Public Holiday
DESCRIPTION:
URL:https://nyasainternational.academy/event/martyrs-day-public-holiday-5/
END:VEVENT
BEGIN:VEVENT
DTSTART;VALUE=DATE:20260320
DTEND;VALUE=DATE:20260322
DTSTAMP:20260425T161412
CREATED:20250601T152444Z
LAST-MODIFIED:20250601T152444Z
UID:7000-1773964800-1774137599@nyasainternational.academy
SUMMARY:Possibly Eid-al-Fitr - Public Holiday
DESCRIPTION:
URL:https://nyasainternational.academy/event/possibly-eid-al-fitr-public-holiday/
END:VEVENT
BEGIN:VEVENT
DTSTART;TZID=UTC:20260401T080000
DTEND;TZID=UTC:20260401T123000
DTSTAMP:20260425T161412
CREATED:20260130T102539Z
LAST-MODIFIED:20260130T102539Z
UID:7110-1775030400-1775046600@nyasainternational.academy
SUMMARY:Spelling Bee & GK Quiz (NISA)
DESCRIPTION:
URL:https://nyasainternational.academy/event/spelling-bee-gk-quiz-nisa/
END:VEVENT
BEGIN:VEVENT
DTSTART;VALUE=DATE:20260402
DTEND;VALUE=DATE:20260403
DTSTAMP:20260425T161412
CREATED:20250601T152635Z
LAST-MODIFIED:20250601T152635Z
UID:7002-1775088000-1775174399@nyasainternational.academy
SUMMARY:Last day of Term 2
DESCRIPTION:
URL:https://nyasainternational.academy/event/last-day-of-term-2-2/
END:VEVENT
BEGIN:VEVENT
DTSTART;VALUE=DATE:20260421
DTEND;VALUE=DATE:20260422
DTSTAMP:20260425T161412
CREATED:20250601T152749Z
LAST-MODIFIED:20250601T152749Z
UID:7004-1776729600-1776815999@nyasainternational.academy
SUMMARY:First Day of Term 3
DESCRIPTION:
URL:https://nyasainternational.academy/event/first-day-of-term-3-2/
END:VEVENT
BEGIN:VEVENT
DTSTART;VALUE=DATE:20260501
DTEND;VALUE=DATE:20260502
DTSTAMP:20260425T161412
CREATED:20250601T152851Z
LAST-MODIFIED:20250601T152851Z
UID:7006-1777593600-1777679999@nyasainternational.academy
SUMMARY:Labour Day-  Public Holiday
DESCRIPTION:
URL:https://nyasainternational.academy/event/labour-day-public-holiday-3/
END:VEVENT
BEGIN:VEVENT
DTSTART;TZID=UTC:20260514T080000
DTEND;TZID=UTC:20260514T170000
DTSTAMP:20260425T161412
CREATED:20250601T153646Z
LAST-MODIFIED:20250601T153646Z
UID:7008-1778745600-1778778000@nyasainternational.academy
SUMMARY:Kamuzu Day - Public Holiday
DESCRIPTION:
URL:https://nyasainternational.academy/event/kamuzu-day-public-holiday-4/
END:VEVENT
BEGIN:VEVENT
DTSTART;VALUE=DATE:20260528
DTEND;VALUE=DATE:20260530
DTSTAMP:20260425T161412
CREATED:20250601T153756Z
LAST-MODIFIED:20250601T153756Z
UID:7010-1779926400-1780099199@nyasainternational.academy
SUMMARY:Mid term break
DESCRIPTION:
URL:https://nyasainternational.academy/event/mid-term-break-3/
END:VEVENT
BEGIN:VEVENT
DTSTART;VALUE=DATE:20260702
DTEND;VALUE=DATE:20260703
DTSTAMP:20260425T161412
CREATED:20250601T153851Z
LAST-MODIFIED:20250601T153851Z
UID:7012-1782950400-1783036799@nyasainternational.academy
SUMMARY:Last day of Term 3
DESCRIPTION:
URL:https://nyasainternational.academy/event/last-day-of-term-3-2/
END:VEVENT
END:VCALENDAR