BEGIN:VCALENDAR
VERSION:2.0
PRODID:-//NYASA INTERNATIONAL ACADEMY - ECPv6.15.20//NONSGML v1.0//EN
CALSCALE:GREGORIAN
METHOD:PUBLISH
X-WR-CALNAME:NYASA INTERNATIONAL ACADEMY
X-ORIGINAL-URL:https://nyasainternational.academy
X-WR-CALDESC:Events for NYASA INTERNATIONAL ACADEMY
REFRESH-INTERVAL;VALUE=DURATION:PT1H
X-Robots-Tag:noindex
X-PUBLISHED-TTL:PT1H
BEGIN:VTIMEZONE
TZID:UTC
BEGIN:STANDARD
TZOFFSETFROM:+0000
TZOFFSETTO:+0000
TZNAME:UTC
DTSTART:20230101T000000
END:STANDARD
END:VTIMEZONE
BEGIN:VEVENT
DTSTART;TZID=UTC:20241202T065500
DTEND;TZID=UTC:20241202T071000
DTSTAMP:20260425T161336
CREATED:20241004T062104Z
LAST-MODIFIED:20241004T062104Z
UID:6761-1733122500-1733123400@nyasainternational.academy
SUMMARY:Mini Enterprise Adverts Assembly NISA
DESCRIPTION:
URL:https://nyasainternational.academy/event/mini-enterprise-adverts-assembly-nisa/
END:VEVENT
BEGIN:VEVENT
DTSTART;TZID=UTC:20241202T080000
DTEND;TZID=UTC:20241202T170000
DTSTAMP:20260425T161336
CREATED:20241004T062736Z
LAST-MODIFIED:20241004T062736Z
UID:6771-1733126400-1733158800@nyasainternational.academy
SUMMARY:Hockey (Students vs Teachers)
DESCRIPTION:
URL:https://nyasainternational.academy/event/hockey-students-vs-teachers/
END:VEVENT
BEGIN:VEVENT
DTSTART;TZID=UTC:20241204T080000
DTEND;TZID=UTC:20241204T170000
DTSTAMP:20260425T161336
CREATED:20241004T062444Z
LAST-MODIFIED:20241004T062444Z
UID:6767-1733299200-1733331600@nyasainternational.academy
SUMMARY:Mini Enterprise Competition NISA
DESCRIPTION:
URL:https://nyasainternational.academy/event/mini-enterprise-competition-nisa/
END:VEVENT
BEGIN:VEVENT
DTSTART;TZID=UTC:20241205T080000
DTEND;TZID=UTC:20241205T170000
DTSTAMP:20260425T161336
CREATED:20241004T062629Z
LAST-MODIFIED:20241004T062629Z
UID:6769-1733385600-1733418000@nyasainternational.academy
SUMMARY:Last Day of the Term (Collection of Reports)
DESCRIPTION:
URL:https://nyasainternational.academy/event/last-day-of-the-term-collection-of-reports/
END:VEVENT
BEGIN:VEVENT
DTSTART;TZID=UTC:20250217T080000
DTEND;TZID=UTC:20250221T123000
DTSTAMP:20260425T161336
CREATED:20250217T094216Z
LAST-MODIFIED:20250217T094216Z
UID:6814-1739779200-1740141000@nyasainternational.academy
SUMMARY:MID - TERM BREAK
DESCRIPTION:Yr6\, Yr9 & Yr11 Classes as normal
URL:https://nyasainternational.academy/event/mid-term-break-2/
END:VEVENT
BEGIN:VEVENT
DTSTART;TZID=UTC:20250224T070000
DTEND;TZID=UTC:20250224T071000
DTSTAMP:20260425T161336
CREATED:20250217T094423Z
LAST-MODIFIED:20250217T094423Z
UID:6816-1740380400-1740381000@nyasainternational.academy
SUMMARY:YR11 ASSEMBLY
DESCRIPTION:
URL:https://nyasainternational.academy/event/yr11-assembly/
END:VEVENT
BEGIN:VEVENT
DTSTART;TZID=UTC:20250225T123000
DTEND;TZID=UTC:20250225T143000
DTSTAMP:20260425T161336
CREATED:20250217T094558Z
LAST-MODIFIED:20250217T094558Z
UID:6818-1740486600-1740493800@nyasainternational.academy
SUMMARY:Parent Teacher Meeting - Yr 6
DESCRIPTION:
URL:https://nyasainternational.academy/event/parent-teacher-meeting-yr-6/
END:VEVENT
BEGIN:VEVENT
DTSTART;TZID=UTC:20250226T070000
DTEND;TZID=UTC:20250226T073000
DTSTAMP:20260425T161336
CREATED:20250217T094649Z
LAST-MODIFIED:20250217T094649Z
UID:6820-1740553200-1740555000@nyasainternational.academy
SUMMARY:Yr 3 Assembly
DESCRIPTION:
URL:https://nyasainternational.academy/event/yr-3-assembly-2/
END:VEVENT
BEGIN:VEVENT
DTSTART;TZID=UTC:20250227T080000
DTEND;TZID=UTC:20250227T170000
DTSTAMP:20260425T161336
CREATED:20250217T094825Z
LAST-MODIFIED:20250217T094825Z
UID:6822-1740643200-1740675600@nyasainternational.academy
SUMMARY:Founder's Day
DESCRIPTION:Classes as normal
URL:https://nyasainternational.academy/event/founders-day-4/
END:VEVENT
BEGIN:VEVENT
DTSTART;TZID=UTC:20250301T080000
DTEND;TZID=UTC:20250331T170000
DTSTAMP:20260425T161336
CREATED:20250217T101420Z
LAST-MODIFIED:20250217T101421Z
UID:6826-1740816000-1743440400@nyasainternational.academy
SUMMARY:Women's History Month
DESCRIPTION:
URL:https://nyasainternational.academy/event/womens-history-month/
END:VEVENT
BEGIN:VEVENT
DTSTART;VALUE=DATE:20250303
DTEND;VALUE=DATE:20250304
DTSTAMP:20260425T161336
CREATED:20250217T100938Z
LAST-MODIFIED:20250217T100938Z
UID:6824-1740960000-1741046399@nyasainternational.academy
SUMMARY:Martyr's Day - Public holiday
DESCRIPTION:
URL:https://nyasainternational.academy/event/martyrs-day-public-holiday-4/
END:VEVENT
BEGIN:VEVENT
DTSTART;TZID=UTC:20250305T070000
DTEND;TZID=UTC:20250305T073000
DTSTAMP:20260425T161336
CREATED:20250226T102120Z
LAST-MODIFIED:20250226T103941Z
UID:6836-1741158000-1741159800@nyasainternational.academy
SUMMARY:Year 4 Assembly
DESCRIPTION:
URL:https://nyasainternational.academy/event/year-4-assembly-6/
END:VEVENT
BEGIN:VEVENT
DTSTART;TZID=UTC:20250310T070000
DTEND;TZID=UTC:20250310T073000
DTSTAMP:20260425T161336
CREATED:20250226T101723Z
LAST-MODIFIED:20250226T101723Z
UID:6832-1741590000-1741591800@nyasainternational.academy
SUMMARY:Clubs Assembly - Secondary
DESCRIPTION:
URL:https://nyasainternational.academy/event/clubs-assembly-secondary-2/
END:VEVENT
BEGIN:VEVENT
DTSTART;TZID=UTC:20250310T080000
DTEND;TZID=UTC:20250321T170000
DTSTAMP:20260425T161336
CREATED:20250226T101413Z
LAST-MODIFIED:20250226T101413Z
UID:6830-1741593600-1742576400@nyasainternational.academy
SUMMARY:Mocks & End of term Assessments - Secondary
DESCRIPTION:
URL:https://nyasainternational.academy/event/mocks-end-of-term-assessments-secondary/
END:VEVENT
BEGIN:VEVENT
DTSTART;TZID=UTC:20250312T070000
DTEND;TZID=UTC:20250312T073000
DTSTAMP:20260425T161336
CREATED:20250226T104048Z
LAST-MODIFIED:20250226T104048Z
UID:6838-1741762800-1741764600@nyasainternational.academy
SUMMARY:Year 5 Assembly
DESCRIPTION:
URL:https://nyasainternational.academy/event/year-5-assembly-4/
END:VEVENT
BEGIN:VEVENT
DTSTART;TZID=UTC:20250317T070000
DTEND;TZID=UTC:20250317T073000
DTSTAMP:20260425T161336
CREATED:20250226T101908Z
LAST-MODIFIED:20250226T101908Z
UID:6834-1742194800-1742196600@nyasainternational.academy
SUMMARY:French Assembly - Secondary
DESCRIPTION:
URL:https://nyasainternational.academy/event/french-assembly-secondary/
END:VEVENT
BEGIN:VEVENT
DTSTART;TZID=UTC:20250317T073000
DTEND;TZID=UTC:20250321T123000
DTSTAMP:20260425T161336
CREATED:20250226T104226Z
LAST-MODIFIED:20250226T104256Z
UID:6840-1742196600-1742560200@nyasainternational.academy
SUMMARY:End of term assessments - Primary
DESCRIPTION:
URL:https://nyasainternational.academy/event/end-of-term-assessments/
END:VEVENT
BEGIN:VEVENT
DTSTART;TZID=UTC:20250423T090000
DTEND;TZID=UTC:20250423T123000
DTSTAMP:20260425T161336
CREATED:20250423T065433Z
LAST-MODIFIED:20250423T065433Z
UID:6855-1745398800-1745411400@nyasainternational.academy
SUMMARY:Checkpoint exam & IGCSE French Speaking exam
DESCRIPTION:
URL:https://nyasainternational.academy/event/checkpoint-exam-igcse-french-speaking-exam/
END:VEVENT
BEGIN:VEVENT
DTSTART;TZID=UTC:20250423T130000
DTEND;TZID=UTC:20250423T170000
DTSTAMP:20260425T161336
CREATED:20250423T083335Z
LAST-MODIFIED:20250423T083335Z
UID:6859-1745413200-1745427600@nyasainternational.academy
SUMMARY:IGCSE French Writing Exam
DESCRIPTION:
URL:https://nyasainternational.academy/event/igcse-french-writing-exam/
END:VEVENT
BEGIN:VEVENT
DTSTART;TZID=UTC:20250424T090000
DTEND;TZID=UTC:20250424T123000
DTSTAMP:20260425T161336
CREATED:20250423T065544Z
LAST-MODIFIED:20250423T065544Z
UID:6857-1745485200-1745497800@nyasainternational.academy
SUMMARY:Checkpoint Primary & Lower Secondary
DESCRIPTION:
URL:https://nyasainternational.academy/event/checkpoint-primary-lower-secondary/
END:VEVENT
BEGIN:VEVENT
DTSTART;TZID=UTC:20250425T080000
DTEND;TZID=UTC:20250430T170000
DTSTAMP:20260425T161336
CREATED:20250423T083510Z
LAST-MODIFIED:20250423T083510Z
UID:6861-1745568000-1746032400@nyasainternational.academy
SUMMARY:Year 6 & 9 day off
DESCRIPTION:
URL:https://nyasainternational.academy/event/year-6-9-day-off/
END:VEVENT
BEGIN:VEVENT
DTSTART;TZID=UTC:20250429T070000
DTEND;TZID=UTC:20250429T123000
DTSTAMP:20260425T161336
CREATED:20250427T151451Z
LAST-MODIFIED:20250427T151451Z
UID:6865-1745910000-1745929800@nyasainternational.academy
SUMMARY:International Dance Day
DESCRIPTION:
URL:https://nyasainternational.academy/event/international-dance-day/
END:VEVENT
BEGIN:VEVENT
DTSTART;TZID=UTC:20250430T010000
DTEND;TZID=UTC:20250430T160000
DTSTAMP:20260425T161336
CREATED:20250427T151649Z
LAST-MODIFIED:20250427T151649Z
UID:6867-1745974800-1746028800@nyasainternational.academy
SUMMARY:IGCSE CHEM CORE AND EXTENDED
DESCRIPTION:
URL:https://nyasainternational.academy/event/igcse-chem-core-and-extended/
END:VEVENT
BEGIN:VEVENT
DTSTART;TZID=UTC:20250501T100000
DTEND;TZID=UTC:20250501T160000
DTSTAMP:20260425T161336
CREATED:20250427T152508Z
LAST-MODIFIED:20250427T200602Z
UID:6869-1746093600-1746115200@nyasainternational.academy
SUMMARY:LABOUR DAY
DESCRIPTION:
URL:https://nyasainternational.academy/event/labour-day/
END:VEVENT
BEGIN:VEVENT
DTSTART;TZID=UTC:20250505T070000
DTEND;TZID=UTC:20250505T071500
DTSTAMP:20260425T161336
CREATED:20250503T073944Z
LAST-MODIFIED:20250503T073944Z
UID:6882-1746428400-1746429300@nyasainternational.academy
SUMMARY:Year 8 Assembly
DESCRIPTION:
URL:https://nyasainternational.academy/event/year-8-assembly-3/
END:VEVENT
BEGIN:VEVENT
DTSTART;TZID=UTC:20250505T130000
DTEND;TZID=UTC:20250505T150000
DTSTAMP:20260425T161336
CREATED:20250503T074136Z
LAST-MODIFIED:20250503T074136Z
UID:6884-1746450000-1746457200@nyasainternational.academy
SUMMARY:Primary clubs
DESCRIPTION:
URL:https://nyasainternational.academy/event/primary-clubs/
END:VEVENT
BEGIN:VEVENT
DTSTART;TZID=UTC:20250506T090000
DTEND;TZID=UTC:20250506T233000
DTSTAMP:20260425T161336
CREATED:20250503T074533Z
LAST-MODIFIED:20250503T074533Z
UID:6888-1746522000-1746574200@nyasainternational.academy
SUMMARY:IGCSE GEO THEMES 12
DESCRIPTION:
URL:https://nyasainternational.academy/event/igcse-geo-themes-12/
END:VEVENT
BEGIN:VEVENT
DTSTART;TZID=UTC:20250506T130000
DTEND;TZID=UTC:20250506T170000
DTSTAMP:20260425T161336
CREATED:20250503T074643Z
LAST-MODIFIED:20250503T074643Z
UID:6890-1746536400-1746550800@nyasainternational.academy
SUMMARY:IGCSE BIO CORE 31 & EXT 41 AND COMBINED SCIENCE CORE 31 & EXT 41
DESCRIPTION:
URL:https://nyasainternational.academy/event/igcse-bio-core-31-ext-41-and-combined-science-core-31-ext-41/
END:VEVENT
BEGIN:VEVENT
DTSTART;TZID=UTC:20250506T133000
DTEND;TZID=UTC:20250506T160000
DTSTAMP:20260425T161336
CREATED:20250503T080139Z
LAST-MODIFIED:20250503T080139Z
UID:6907-1746538200-1746547200@nyasainternational.academy
SUMMARY:PARENT TEACHER MEETING (YR7 TO YR10)
DESCRIPTION:
URL:https://nyasainternational.academy/event/parent-teacher-meeting-yr7-to-yr10/
END:VEVENT
BEGIN:VEVENT
DTSTART;TZID=UTC:20250506T133000
DTEND;TZID=UTC:20250506T163000
DTSTAMP:20260425T161336
CREATED:20250503T103231Z
LAST-MODIFIED:20250503T103231Z
UID:6909-1746538200-1746549000@nyasainternational.academy
SUMMARY:Parent Teacher Meeting Primary
DESCRIPTION:
URL:https://nyasainternational.academy/event/parent-teacher-meeting-primary/
END:VEVENT
END:VCALENDAR