BEGIN:VCALENDAR
VERSION:2.0
PRODID:-//NYASA INTERNATIONAL ACADEMY - ECPv6.15.20//NONSGML v1.0//EN
CALSCALE:GREGORIAN
METHOD:PUBLISH
X-WR-CALNAME:NYASA INTERNATIONAL ACADEMY
X-ORIGINAL-URL:https://nyasainternational.academy
X-WR-CALDESC:Events for NYASA INTERNATIONAL ACADEMY
REFRESH-INTERVAL;VALUE=DURATION:PT1H
X-Robots-Tag:noindex
X-PUBLISHED-TTL:PT1H
BEGIN:VTIMEZONE
TZID:UTC
BEGIN:STANDARD
TZOFFSETFROM:+0000
TZOFFSETTO:+0000
TZNAME:UTC
DTSTART:20240101T000000
END:STANDARD
END:VTIMEZONE
BEGIN:VEVENT
DTSTART;TZID=UTC:20250613T073000
DTEND;TZID=UTC:20250613T120000
DTSTAMP:20260425T113607
CREATED:20250601T144458Z
LAST-MODIFIED:20250601T144458Z
UID:6976-1749799800-1749816000@nyasainternational.academy
SUMMARY:Grad photos and year 11 farewell parade
DESCRIPTION:
URL:https://nyasainternational.academy/event/grad-photos-and-year-11-farewell-parade/
END:VEVENT
BEGIN:VEVENT
DTSTART;TZID=UTC:20250611T140000
DTEND;TZID=UTC:20250611T170000
DTSTAMP:20260425T113607
CREATED:20250601T144214Z
LAST-MODIFIED:20250601T144214Z
UID:6974-1749650400-1749661200@nyasainternational.academy
SUMMARY:IGCSE Bio Core Paper 11 & Ext Paper 21
DESCRIPTION:
URL:https://nyasainternational.academy/event/igcse-bio-core-paper-11-ext-paper-21/
END:VEVENT
BEGIN:VEVENT
DTSTART;TZID=UTC:20250610T140000
DTEND;TZID=UTC:20250610T170000
DTSTAMP:20260425T113607
CREATED:20250601T144005Z
LAST-MODIFIED:20250601T144005Z
UID:6972-1749564000-1749574800@nyasainternational.academy
SUMMARY:IGCSE Chem Core Paper 11 & Ext Paper 21
DESCRIPTION:
URL:https://nyasainternational.academy/event/igcse-chem-core-paper-11-ext-paper-21/
END:VEVENT
BEGIN:VEVENT
DTSTART;TZID=UTC:20250529T140000
DTEND;TZID=UTC:20250529T170000
DTSTAMP:20260425T113607
CREATED:20250520T205712Z
LAST-MODIFIED:20250520T205712Z
UID:6967-1748527200-1748538000@nyasainternational.academy
SUMMARY:IGCSE Acc Paper 11
DESCRIPTION:
URL:https://nyasainternational.academy/event/igcse-acc-paper-11/
END:VEVENT
BEGIN:VEVENT
DTSTART;VALUE=DATE:20250529
DTEND;VALUE=DATE:20250531
DTSTAMP:20260425T113607
CREATED:20250520T205532Z
LAST-MODIFIED:20250520T205532Z
UID:6965-1748476800-1748649599@nyasainternational.academy
SUMMARY:MID TERM BREAK - NJA & NISA
DESCRIPTION:
URL:https://nyasainternational.academy/event/mid-term-break-nja-nisa/
END:VEVENT
BEGIN:VEVENT
DTSTART;TZID=UTC:20250528T070000
DTEND;TZID=UTC:20250528T123000
DTSTAMP:20260425T113607
CREATED:20250520T205414Z
LAST-MODIFIED:20250520T205414Z
UID:6963-1748415600-1748435400@nyasainternational.academy
SUMMARY:TEACHERS DAY
DESCRIPTION:
URL:https://nyasainternational.academy/event/teachers-day/
END:VEVENT
BEGIN:VEVENT
DTSTART;TZID=UTC:20250526T080000
DTEND;TZID=UTC:20250526T123000
DTSTAMP:20260425T113607
CREATED:20250520T205318Z
LAST-MODIFIED:20250520T205318Z
UID:6961-1748246400-1748262600@nyasainternational.academy
SUMMARY:AFRICA DAY - NJA & NISA CELEBRATION
DESCRIPTION:
URL:https://nyasainternational.academy/event/africa-day-nja-nisa-celebration/
END:VEVENT
BEGIN:VEVENT
DTSTART;VALUE=DATE:20250525
DTEND;VALUE=DATE:20250526
DTSTAMP:20260425T113607
CREATED:20250520T204509Z
LAST-MODIFIED:20250520T204650Z
UID:6955-1748131200-1748217599@nyasainternational.academy
SUMMARY:AFRICA DAY
DESCRIPTION:
URL:https://nyasainternational.academy/event/africa-day/
END:VEVENT
BEGIN:VEVENT
DTSTART;TZID=UTC:20250522T140000
DTEND;TZID=UTC:20250522T170000
DTSTAMP:20260425T113607
CREATED:20250520T202937Z
LAST-MODIFIED:20250520T202937Z
UID:6945-1747922400-1747933200@nyasainternational.academy
SUMMARY:IGCSE Chem Core & Ext 61
DESCRIPTION:
URL:https://nyasainternational.academy/event/igcse-chem-core-ext-61/
END:VEVENT
BEGIN:VEVENT
DTSTART;TZID=UTC:20250522T100000
DTEND;TZID=UTC:20250522T123000
DTSTAMP:20260425T113607
CREATED:20250520T204129Z
LAST-MODIFIED:20250520T204129Z
UID:6953-1747908000-1747917000@nyasainternational.academy
SUMMARY:NJA OPEN DAY
DESCRIPTION:
URL:https://nyasainternational.academy/event/nja-open-day/
END:VEVENT
BEGIN:VEVENT
DTSTART;TZID=UTC:20250522T100000
DTEND;TZID=UTC:20250522T123000
DTSTAMP:20260425T113607
CREATED:20250520T202817Z
LAST-MODIFIED:20250520T202817Z
UID:6943-1747908000-1747917000@nyasainternational.academy
SUMMARY:IGCSE Geography paper 22
DESCRIPTION:
URL:https://nyasainternational.academy/event/igcse-geography-paper-22/
END:VEVENT
BEGIN:VEVENT
DTSTART;TZID=UTC:20250522T080000
DTEND;TZID=UTC:20250522T100000
DTSTAMP:20260425T113607
CREATED:20250520T203926Z
LAST-MODIFIED:20250520T203926Z
UID:6951-1747900800-1747908000@nyasainternational.academy
SUMMARY:NISA OPEN DAY
DESCRIPTION:
URL:https://nyasainternational.academy/event/nisa-open-day-2/
END:VEVENT
BEGIN:VEVENT
DTSTART;TZID=UTC:20250521T140000
DTEND;TZID=UTC:20250521T170000
DTSTAMP:20260425T113607
CREATED:20250520T202637Z
LAST-MODIFIED:20250520T202637Z
UID:6941-1747836000-1747846800@nyasainternational.academy
SUMMARY:IGCSE Acc Paper 21
DESCRIPTION:
URL:https://nyasainternational.academy/event/igcse-acc-paper-21/
END:VEVENT
BEGIN:VEVENT
DTSTART;TZID=UTC:20250516T133000
DTEND;TZID=UTC:20250516T163000
DTSTAMP:20260425T113607
CREATED:20250511T140231Z
LAST-MODIFIED:20250511T140231Z
UID:6936-1747402200-1747413000@nyasainternational.academy
SUMMARY:IGCSE BUSINESS STUDIES EXAM
DESCRIPTION:
URL:https://nyasainternational.academy/event/igcse-business-studies-exam/
END:VEVENT
BEGIN:VEVENT
DTSTART;TZID=UTC:20250516T093000
DTEND;TZID=UTC:20250516T123000
DTSTAMP:20260425T113607
CREATED:20250511T140514Z
LAST-MODIFIED:20250511T140514Z
UID:6938-1747387800-1747398600@nyasainternational.academy
SUMMARY:IGCSE HISTORY EXAM
DESCRIPTION:
URL:https://nyasainternational.academy/event/igcse-history-exam/
END:VEVENT
BEGIN:VEVENT
DTSTART;TZID=UTC:20250515T130000
DTEND;TZID=UTC:20250515T163000
DTSTAMP:20260425T113607
CREATED:20250511T135756Z
LAST-MODIFIED:20250511T135756Z
UID:6932-1747314000-1747326600@nyasainternational.academy
SUMMARY:Chem Core & Ext 61
DESCRIPTION:
URL:https://nyasainternational.academy/event/chem-core-ext-61/
END:VEVENT
BEGIN:VEVENT
DTSTART;TZID=UTC:20250515T093000
DTEND;TZID=UTC:20250515T123000
DTSTAMP:20260425T113607
CREATED:20250511T135653Z
LAST-MODIFIED:20250511T135653Z
UID:6930-1747301400-1747312200@nyasainternational.academy
SUMMARY:IGCSE Geo 22 exam
DESCRIPTION:
URL:https://nyasainternational.academy/event/igcse-geo-22-exam/
END:VEVENT
BEGIN:VEVENT
DTSTART;TZID=UTC:20250514T130000
DTEND;TZID=UTC:20250514T163000
DTSTAMP:20260425T113607
CREATED:20250511T132842Z
LAST-MODIFIED:20250511T132842Z
UID:6928-1747227600-1747240200@nyasainternational.academy
SUMMARY:IGCSE Eng 21 Exam
DESCRIPTION:
URL:https://nyasainternational.academy/event/igcse-eng-21-exam/
END:VEVENT
BEGIN:VEVENT
DTSTART;VALUE=DATE:20250514
DTEND;VALUE=DATE:20250515
DTSTAMP:20260425T113607
CREATED:20250511T132253Z
LAST-MODIFIED:20250511T132253Z
UID:6924-1747180800-1747267199@nyasainternational.academy
SUMMARY:Kamuzu Day - Public Holiday
DESCRIPTION:
URL:https://nyasainternational.academy/event/kamuzu-day-public-holiday-3/
END:VEVENT
BEGIN:VEVENT
DTSTART;TZID=UTC:20250513T170000
DTEND;TZID=UTC:20250514T130000
DTSTAMP:20260425T113607
CREATED:20250511T125508Z
LAST-MODIFIED:20250511T125508Z
UID:6920-1747155600-1747227600@nyasainternational.academy
SUMMARY:Year 6 Excursion
DESCRIPTION:
URL:https://nyasainternational.academy/event/year-6-excursion-2/
END:VEVENT
BEGIN:VEVENT
DTSTART;TZID=UTC:20250513T130000
DTEND;TZID=UTC:20250513T160000
DTSTAMP:20260425T113607
CREATED:20250511T132603Z
LAST-MODIFIED:20250511T132603Z
UID:6926-1747141200-1747152000@nyasainternational.academy
SUMMARY:IGCSE Bio Core 61 & Ext 61 and CS Core & Ext 61 Exam
DESCRIPTION:
URL:https://nyasainternational.academy/event/igcse-bio-core-61-ext-61-and-cs-core-ext-61-exam/
END:VEVENT
BEGIN:VEVENT
DTSTART;VALUE=DATE:20250513
DTEND;VALUE=DATE:20250514
DTSTAMP:20260425T113607
CREATED:20250511T135958Z
LAST-MODIFIED:20250511T140038Z
UID:6934-1747094400-1747180799@nyasainternational.academy
SUMMARY:First round speeches in - Primary
DESCRIPTION:
URL:https://nyasainternational.academy/event/first-round-speeches-in-primary/
END:VEVENT
BEGIN:VEVENT
DTSTART;TZID=UTC:20250512T070000
DTEND;TZID=UTC:20250516T170000
DTSTAMP:20260425T113607
CREATED:20250511T130153Z
LAST-MODIFIED:20250511T130153Z
UID:6922-1747033200-1747414800@nyasainternational.academy
SUMMARY:Mental Health Awareness Week
DESCRIPTION:
URL:https://nyasainternational.academy/event/mental-health-awareness-week/
END:VEVENT
BEGIN:VEVENT
DTSTART;TZID=UTC:20250509T130000
DTEND;TZID=UTC:20250509T163000
DTSTAMP:20260425T113607
CREATED:20250503T075918Z
LAST-MODIFIED:20250503T075918Z
UID:6905-1746795600-1746808200@nyasainternational.academy
SUMMARY:IGCSE PHYSICS CORE 31 & EXT 41 EXAM
DESCRIPTION:
URL:https://nyasainternational.academy/event/igcse-physics-core-31-ext-41-exam/
END:VEVENT
BEGIN:VEVENT
DTSTART;TZID=UTC:20250509T100000
DTEND;TZID=UTC:20250509T123000
DTSTAMP:20260425T113607
CREATED:20250503T075800Z
LAST-MODIFIED:20250503T075800Z
UID:6903-1746784800-1746793800@nyasainternational.academy
SUMMARY:IGCSE HISTORY 12 EXAM
DESCRIPTION:
URL:https://nyasainternational.academy/event/igcse-history-12-exam/
END:VEVENT
BEGIN:VEVENT
DTSTART;TZID=UTC:20250508T133000
DTEND;TZID=UTC:20250508T163000
DTSTAMP:20260425T113607
CREATED:20250503T075608Z
LAST-MODIFIED:20250503T075608Z
UID:6901-1746711000-1746721800@nyasainternational.academy
SUMMARY:IGCSE ENG READING EXAM
DESCRIPTION:
URL:https://nyasainternational.academy/event/igcse-eng-reading-exam/
END:VEVENT
BEGIN:VEVENT
DTSTART;TZID=UTC:20250508T100000
DTEND;TZID=UTC:20250508T123000
DTSTAMP:20260425T113607
CREATED:20250503T075524Z
LAST-MODIFIED:20250503T075524Z
UID:6899-1746698400-1746707400@nyasainternational.academy
SUMMARY:IGCSE ICT THEORY 12 EXAM
DESCRIPTION:
URL:https://nyasainternational.academy/event/igcse-ict-theory-12-exam/
END:VEVENT
BEGIN:VEVENT
DTSTART;TZID=UTC:20250507T133000
DTEND;TZID=UTC:20250507T163000
DTSTAMP:20260425T113607
CREATED:20250503T075253Z
LAST-MODIFIED:20250503T075253Z
UID:6894-1746624600-1746635400@nyasainternational.academy
SUMMARY:IGCSE FRENCH READING 21
DESCRIPTION:
URL:https://nyasainternational.academy/event/igcse-french-reading-21/
END:VEVENT
BEGIN:VEVENT
DTSTART;TZID=UTC:20250507T133000
DTEND;TZID=UTC:20250507T153000
DTSTAMP:20260425T113607
CREATED:20250503T103329Z
LAST-MODIFIED:20250503T103329Z
UID:6911-1746624600-1746631800@nyasainternational.academy
SUMMARY:PARENT TEACHER MEETING PRIMARY
DESCRIPTION:
URL:https://nyasainternational.academy/event/parent-teacher-meeting-primary-2/
END:VEVENT
BEGIN:VEVENT
DTSTART;TZID=UTC:20250507T100000
DTEND;TZID=UTC:20250507T123000
DTSTAMP:20260425T113607
CREATED:20250503T075214Z
LAST-MODIFIED:20250503T075214Z
UID:6892-1746612000-1746621000@nyasainternational.academy
SUMMARY:IGCSE MATHS CORE 32 & EXT 42
DESCRIPTION:
URL:https://nyasainternational.academy/event/igcse-maths-core-32-ext-42/
END:VEVENT
END:VCALENDAR