BEGIN:VCALENDAR
VERSION:2.0
PRODID:-//NYASA INTERNATIONAL ACADEMY - ECPv6.15.20//NONSGML v1.0//EN
CALSCALE:GREGORIAN
METHOD:PUBLISH
X-WR-CALNAME:NYASA INTERNATIONAL ACADEMY
X-ORIGINAL-URL:https://nyasainternational.academy
X-WR-CALDESC:Events for NYASA INTERNATIONAL ACADEMY
REFRESH-INTERVAL;VALUE=DURATION:PT1H
X-Robots-Tag:noindex
X-PUBLISHED-TTL:PT1H
BEGIN:VTIMEZONE
TZID:UTC
BEGIN:STANDARD
TZOFFSETFROM:+0000
TZOFFSETTO:+0000
TZNAME:UTC
DTSTART:20250101T000000
END:STANDARD
END:VTIMEZONE
BEGIN:VEVENT
DTSTART;VALUE=DATE:20260402
DTEND;VALUE=DATE:20260403
DTSTAMP:20260424T165933
CREATED:20250601T152635Z
LAST-MODIFIED:20250601T152635Z
UID:7002-1775088000-1775174399@nyasainternational.academy
SUMMARY:Last day of Term 2
DESCRIPTION:
URL:https://nyasainternational.academy/event/last-day-of-term-2-2/
END:VEVENT
END:VCALENDAR