BEGIN:VCALENDAR
VERSION:2.0
PRODID:-//NYASA INTERNATIONAL ACADEMY - ECPv6.15.20//NONSGML v1.0//EN
CALSCALE:GREGORIAN
METHOD:PUBLISH
X-WR-CALNAME:NYASA INTERNATIONAL ACADEMY
X-ORIGINAL-URL:https://nyasainternational.academy
X-WR-CALDESC:Events for NYASA INTERNATIONAL ACADEMY
REFRESH-INTERVAL;VALUE=DURATION:PT1H
X-Robots-Tag:noindex
X-PUBLISHED-TTL:PT1H
BEGIN:VTIMEZONE
TZID:UTC
BEGIN:STANDARD
TZOFFSETFROM:+0000
TZOFFSETTO:+0000
TZNAME:UTC
DTSTART:20240101T000000
END:STANDARD
END:VTIMEZONE
BEGIN:VEVENT
DTSTART;TZID=UTC:20250224T070000
DTEND;TZID=UTC:20250224T071000
DTSTAMP:20260425T111545
CREATED:20250217T094423Z
LAST-MODIFIED:20250217T094423Z
UID:6816-1740380400-1740381000@nyasainternational.academy
SUMMARY:YR11 ASSEMBLY
DESCRIPTION:
URL:https://nyasainternational.academy/event/yr11-assembly/
END:VEVENT
END:VCALENDAR