BEGIN:VCALENDAR
VERSION:2.0
PRODID:-//NYASA INTERNATIONAL ACADEMY - ECPv6.15.20//NONSGML v1.0//EN
CALSCALE:GREGORIAN
METHOD:PUBLISH
X-WR-CALNAME:NYASA INTERNATIONAL ACADEMY
X-ORIGINAL-URL:https://nyasainternational.academy
X-WR-CALDESC:Events for NYASA INTERNATIONAL ACADEMY
REFRESH-INTERVAL;VALUE=DURATION:PT1H
X-Robots-Tag:noindex
X-PUBLISHED-TTL:PT1H
BEGIN:VTIMEZONE
TZID:UTC
BEGIN:STANDARD
TZOFFSETFROM:+0000
TZOFFSETTO:+0000
TZNAME:UTC
DTSTART:20230101T000000
END:STANDARD
END:VTIMEZONE
BEGIN:VEVENT
DTSTART;TZID=UTC:20241205T080000
DTEND;TZID=UTC:20241205T170000
DTSTAMP:20260425T161137
CREATED:20241004T062629Z
LAST-MODIFIED:20241004T062629Z
UID:6769-1733385600-1733418000@nyasainternational.academy
SUMMARY:Last Day of the Term (Collection of Reports)
DESCRIPTION:
URL:https://nyasainternational.academy/event/last-day-of-the-term-collection-of-reports/
END:VEVENT
END:VCALENDAR