BEGIN:VCALENDAR
VERSION:2.0
PRODID:-//NYASA INTERNATIONAL ACADEMY - ECPv6.15.20//NONSGML v1.0//EN
CALSCALE:GREGORIAN
METHOD:PUBLISH
X-ORIGINAL-URL:https://nyasainternational.academy
X-WR-CALDESC:Events for NYASA INTERNATIONAL ACADEMY
REFRESH-INTERVAL;VALUE=DURATION:PT1H
X-Robots-Tag:noindex
X-PUBLISHED-TTL:PT1H
BEGIN:VTIMEZONE
TZID:UTC
BEGIN:STANDARD
TZOFFSETFROM:+0000
TZOFFSETTO:+0000
TZNAME:UTC
DTSTART:20230101T000000
END:STANDARD
END:VTIMEZONE
BEGIN:VEVENT
DTSTART;TZID=UTC:20241118T080000
DTEND;TZID=UTC:20241129T170000
DTSTAMP:20260425T161147
CREATED:20241004T061618Z
LAST-MODIFIED:20241004T061618Z
UID:6755-1731916800-1732899600@nyasainternational.academy
SUMMARY:Exams (NISA)
DESCRIPTION:
URL:https://nyasainternational.academy/event/exams-nisa/
END:VEVENT
BEGIN:VEVENT
DTSTART;TZID=UTC:20241128T080000
DTEND;TZID=UTC:20241128T170000
DTSTAMP:20260425T161147
CREATED:20241004T062351Z
LAST-MODIFIED:20241004T062351Z
UID:6765-1732780800-1732813200@nyasainternational.academy
SUMMARY:Concert (NJA)
DESCRIPTION:
URL:https://nyasainternational.academy/event/concert-nja/
END:VEVENT
END:VCALENDAR